BEGIN:VCALENDAR
VERSION:2.0
PRODID:-//jEvents 2.0 for Joomla//EN
CALSCALE:GREGORIAN
METHOD:PUBLISH
BEGIN:VEVENT
UID:7d5b46201bc39215061beb7332312698
CATEGORIES:cosmetology, history, archaeology, education, personal development, pedagogy, journalism, media, social communication, sociology, anthropology, cinema, music, theater, art
CREATED:20240818T161209
SUMMARY:Kalendarz szkoleń, konferencji, kursów - 3rd National Fashion Law Congress
LOCATION:ONLINE
URL;VALUE=URI:https://www.konferencjemedyczne.info/en/events/255/3rd-national-fashion-law
 -congress.html?tmpl=component
DESCRIPTION:Ladies and Gentlemen,\nThe Center for European Studies and the Center for A
 merican Studies invite you to participate in the 3rd National Fashion Law C
 ongress - a unique event that is a place for the exchange of knowledge and 
 discussion between fashion law enthusiasts and representatives of the fashi
 on industry!\nWhen?\nThe Congress will be held on Saturday, September 13, 2
 025 between 9:00 and 16:00 online on the Microsoft Teams platform.\nThe len
 gth of the Congress depends on the number of speakers. In the event of a hi
 gh number of applications, we reserve the right to extend the conference to
  Sunday, September 16, 2025.\nWHAT is the Conference about?\nThe main objec
 tive of the Fashion Law Congress is to discuss the issues of fashion law in
  the perspective of generally applicable national law (Polish), foreign leg
 al orders, international regulations and practical aspects of running a bus
 iness in the fashion industry (from marketing, through specific employment 
 methods, to environmental protection policies restricting the activities of
  fashion companies).\nThe organizers of the Fashion Law Congress wish to di
 scuss a multitude of pressing issues related to the law in the fashion indu
 stry, such as licensing agreements, copyrights, trademark protection and le
 gal aspects related to the production and distribution of fashion products 
 (clothing and accessories).\nProposed (example) thematic areas:\n✓ Intellec
 tual property law (including in particular copyright and trademark law) in 
 the fashion industry\n✓ Contracts and commercial transactions related to th
 e fashion industry (domestic and international)\n✓ Labor law and forms of e
 mployment in the fashion industry\n✓ Customs and taxes on business entities
  selling clothing and accessories\n✓ Trade dress – case studies\n✓ New chal
 lenges for the fashion industry (including artificial intelligence, digital
 ization and virtual reality)\n✓ The most interesting rulings on “fashion ma
 tters” and their consequences\n✓ Ethical issues of clothing production (mod
 ern slave labor, child labor, environmental degradation, etc.)\n✓ Issues re
 lated to international supply chains\n✓ Legal aspects of modeling\n✓ The fa
 shion industry and startups and e-commerce\nThe above thematic areas are on
 ly examples – we strongly encourage you to go beyond them. In addition, pre
 sentations may be interdisciplinary in nature, combining various fields of 
 science.\nWe do not censor presentations for political or ideological reaso
 ns. Original and unconventional presentations will always be appreciated by
  the Scientific Committee.\nWe accept presentations in Polish and English.\
 nPresentations may be based on your own or someone else's research (review 
 of achievements and literature), as well as take the form of case studies. 
 Presentations in the form of a poster are also accepted.\nFor whom?\n- We c
 ordially invite students and PhD students, experienced researchers, industr
 y practitioners, as well as all other people interested in the subject matt
 er of the congress to actively participate in the congress.\n- Passive part
 icipation does not require any scientific qualifications.\n This event was 
 imported from: https://www.konferencjemedyczne.info/en/events/255/3rd-natio
 nal-fashion-law-congress.html?tmpl=component (https://www.konferencjemedycz
 ne.info/en/events/255/3rd-national-fashion-law-congress.html?tmpl=component
 )
X-ALT-DESC;FMTTYPE=text/html:<p>Ladies and Gentlemen,<br />The Center for European Studies and the Cente
 r for American Studies invite you to participate in the 3rd National Fashio
 n Law Congress - a unique event that is a place for the exchange of knowled
 ge and discussion between fashion law enthusiasts and representatives of th
 e fashion industry!</p><p>When?<br />The Congress will be held on Saturday,
  September 13, 2025 between 9:00 and 16:00 online on the Microsoft Teams pl
 atform.</p><p>The length of the Congress depends on the number of speakers.
  In the event of a high number of applications, we reserve the right to ext
 end the conference to Sunday, September 16, 2025.</p><p>WHAT is the Confere
 nce about?<br />The main objective of the Fashion Law Congress is to discus
 s the issues of fashion law in the perspective of generally applicable nati
 onal law (Polish), foreign legal orders, international regulations and prac
 tical aspects of running a business in the fashion industry (from marketing
 , through specific employment methods, to environmental protection policies
  restricting the activities of fashion companies).</p><p>The organizers of 
 the Fashion Law Congress wish to discuss a multitude of pressing issues rel
 ated to the law in the fashion industry, such as licensing agreements, copy
 rights, trademark protection and legal aspects related to the production an
 d distribution of fashion products (clothing and accessories).</p><p>Propos
 ed (example) thematic areas:<br />✓ Intellectual property law (including in
  particular copyright and trademark law) in the fashion industry<br />✓ Con
 tracts and commercial transactions related to the fashion industry (domesti
 c and international)<br />✓ Labor law and forms of employment in the fashio
 n industry<br />✓ Customs and taxes on business entities selling clothing a
 nd accessories<br />✓ Trade dress – case studies<br />✓ New challenges for 
 the fashion industry (including artificial intelligence, digitalization and
  virtual reality)<br />✓ The most interesting rulings on “fashion matters” 
 and their consequences<br />✓ Ethical issues of clothing production (modern
  slave labor, child labor, environmental degradation, etc.)<br />✓ Issues r
 elated to international supply chains<br />✓ Legal aspects of modeling<br /
 >✓ The fashion industry and startups and e-commerce</p><p>The above themati
 c areas are only examples – we strongly encourage you to go beyond them. In
  addition, presentations may be interdisciplinary in nature, combining vari
 ous fields of science.</p><p>We do not censor presentations for political o
 r ideological reasons. Original and unconventional presentations will alway
 s be appreciated by the Scientific Committee.</p><p>We accept presentations
  in Polish and English.<br />Presentations may be based on your own or some
 one else's research (review of achievements and literature), as well as tak
 e the form of case studies. Presentations in the form of a poster are also 
 accepted.</p><p>For whom?<br />- We cordially invite students and PhD stude
 nts, experienced researchers, industry practitioners, as well as all other 
 people interested in the subject matter of the congress to actively partici
 pate in the congress.<br />- Passive participation does not require any sci
 entific qualifications.</p> <a href="https://www.konferencjemedyczne.info/e
 n/events/255/3rd-national-fashion-law-congress.html?tmpl=component">This ev
 ent was imported from: https://www.konferencjemedyczne.info/en/events/255/3
 rd-national-fashion-law-congress.html?tmpl=component</a>DTSTAMP:20260421T103909
DTSTART;VALUE=DATE:20250913
DTEND;VALUE=DATE:20250914
SEQUENCE:0
TRANSP:OPAQUE
END:VEVENT
END:VCALENDAR