BEGIN:VCALENDAR
VERSION:2.0
PRODID:-//jEvents 2.0 for Joomla//EN
CALSCALE:GREGORIAN
METHOD:PUBLISH
BEGIN:VEVENT
UID:a739134dbb47e7215bf1fd9d749ce9df
CATEGORIES:medicine, law
CREATED:20240822T163753
SUMMARY:Kalendarz szkoleń, konferencji, kursów - 5th National PANDa Conference
LOCATION:ibis Styles Lublin Stare Miasto
URL;VALUE=URI:https://www.konferencjemedyczne.info/en/events/276/5th-national-panda-confe
 rence.html?tmpl=component
DESCRIPTION:<p>Topics of the medical conference V National PANDa conference:</p><p>- pe
 diatrics<br />- rehabilitation<br />- orthopedics<br />- law</p><p>Details 
 on the Organizer's website.</p> <a href="https://www.konferencjemedyczne.in
 fo/en/events/276/5th-national-panda-conference.html?tmpl=component">This ev
 ent was imported from: https://www.konferencjemedyczne.info/en/events/276/5
 th-national-panda-conference.html?tmpl=component</a>DTSTAMP:20260422T153438
DTSTART;VALUE=DATE:20241108
DTEND;VALUE=DATE:20241111
SEQUENCE:0
TRANSP:OPAQUE
END:VEVENT
END:VCALENDAR