BEGIN:VCALENDAR
VERSION:2.0
PRODID:-//jEvents 2.0 for Joomla//EN
CALSCALE:GREGORIAN
METHOD:PUBLISH
BEGIN:VEVENT
UID:c60ac9083bfdb6d1453b4e68ef7c9e04
CATEGORIES:pharmacy
CREATED:20240826T162356
SUMMARY:Kalendarz szkoleń, konferencji, kursów - II Workshops PHARMACIST ACADEMY Hot Topics in Pharmacy
LOCATION:Poznań - brak szczegółów
URL;VALUE=URI:https://www.konferencjemedyczne.info/en/events/312/ii-workshops-pharmacist-
 academy-hot-topics-in-pharmacy.html?tmpl=component
DESCRIPTION:Topics of the medical conference II Workshops ACADEMY OF PHARMACISTS Hot To
 pics in Pharmacy is pharmacy.\nDetails on the Organizer's website.\n This e
 vent was imported from: https://www.konferencjemedyczne.info/en/events/312/
 ii-workshops-pharmacist-academy-hot-topics-in-pharmacy.html?tmpl=component
X-ALT-DESC;FMTTYPE=text/html:<p>Topics of the medical conference II Workshops ACADEMY OF PHARMACISTS Hot
  Topics in Pharmacy is pharmacy.</p><p>Details on the Organizer's website.<
 /p> <a href="https://www.konferencjemedyczne.info/en/events/312/ii-workshop
 s-pharmacist-academy-hot-topics-in-pharmacy.html?tmpl=component">This event
  was imported from: https://www.konferencjemedyczne.info/en/events/312/ii-w
 orkshops-pharmacist-academy-hot-topics-in-pharmacy.html?tmpl=component</a>DTSTAMP:20260422T141524
DTSTART;VALUE=DATE:20241123
DTEND;VALUE=DATE:20241124
SEQUENCE:0
TRANSP:OPAQUE
END:VEVENT
END:VCALENDAR