BEGIN:VCALENDAR
VERSION:2.0
PRODID:-//jEvents 2.0 for Joomla//EN
CALSCALE:GREGORIAN
METHOD:PUBLISH
BEGIN:VEVENT
UID:e4a9fe42af11b22a622d38325ab59671
CATEGORIES:medicine
CREATED:20240826T164115
SUMMARY:Kalendarz szkoleń, konferencji, kursów - PRACTICAL GUIDELINES AND STANDARDS IN COORDINATED CARE. 20TH ANNIVERSARY OF THE FEDERATION ZIELONOGÓR AGREEMENT
LOCATION:Focus Hotel Premium Warszawa
URL;VALUE=URI:https://www.konferencjemedyczne.info/en/events/315/practical-guidelines-and
 -standards-in-coordinated-care-20th-anniversary-of-the-federation-zielonogo
 r-agreement.html?tmpl=component
DESCRIPTION:Medical conference topics PRACTICAL GUIDELINES AND STANDARDS IN COORDINATED
  CARE. 20TH ANNIVERSARY OF THE FEDERATION ZIELONOGÓR AGREEMENT is coordinat
 ed care.\nDetails on the Organizer's website.\n This event was imported fro
 m: https://www.konferencjemedyczne.info/en/events/315/practical-guidelines-
 and-standards-in-coordinated-care-20th-anniversary-of-the-federation-zielon
 ogor-agreement.html?tmpl=component
X-ALT-DESC;FMTTYPE=text/html:<p>Medical conference topics PRACTICAL GUIDELINES AND STANDARDS IN COORDINA
 TED CARE. 20TH ANNIVERSARY OF THE FEDERATION ZIELONOGÓR AGREEMENT is coordi
 nated care.</p><p>Details on the Organizer's website.</p> <a href="https://
 www.konferencjemedyczne.info/en/events/315/practical-guidelines-and-standar
 ds-in-coordinated-care-20th-anniversary-of-the-federation-zielonogor-agreem
 ent.html?tmpl=component">This event was imported from: https://www.konferen
 cjemedyczne.info/en/events/315/practical-guidelines-and-standards-in-coordi
 nated-care-20th-anniversary-of-the-federation-zielonogor-agreement.html?tmp
 l=component</a>DTSTAMP:20260421T185322
DTSTART;VALUE=DATE:20241129
DTEND;VALUE=DATE:20241201
SEQUENCE:0
TRANSP:OPAQUE
END:VEVENT
END:VCALENDAR