BEGIN:VCALENDAR
VERSION:2.0
PRODID:-//jEvents 2.0 for Joomla//EN
CALSCALE:GREGORIAN
METHOD:PUBLISH
BEGIN:VEVENT
UID:18c9eec512d2dbac9b6f10e30e2797a3
CATEGORIES:medicine, nursing, midwifery
CREATED:20240828T135229
SUMMARY:Kalendarz szkoleń, konferencji, kursów - GYNECOLOGY AND OBSTETRICS NEW TRENDS 2025
LOCATION:Poznań - brak szczegółów
URL;VALUE=URI:https://www.konferencjemedyczne.info/en/events/333/gynecology-and-obstetric
 s-new-trends-2025.html?tmpl=component
DESCRIPTION:<p>The subject of the medical conference GYNECOLOGY AND OBSTETRICS NEW TREN
 DS 2025 is gynecology, obstetrics.</p><p>Details on the Organizer's website
 .</p> <a href="https://www.konferencjemedyczne.info/en/events/333/gynecolog
 y-and-obstetrics-new-trends-2025.html?tmpl=component">This event was import
 ed from: https://www.konferencjemedyczne.info/en/events/333/gynecology-and-
 obstetrics-new-trends-2025.html?tmpl=component</a>DTSTAMP:20260422T105916
DTSTART;VALUE=DATE:20250509
DTEND;VALUE=DATE:20250511
SEQUENCE:0
TRANSP:OPAQUE
END:VEVENT
END:VCALENDAR