BEGIN:VCALENDAR
VERSION:2.0
PRODID:-//jEvents 2.0 for Joomla//EN
CALSCALE:GREGORIAN
METHOD:PUBLISH
BEGIN:VEVENT
UID:c97296c3596112976d40fca8def9c30e
CATEGORIES:medicine
CREATED:20241008T102652
SUMMARY:Kalendarz szkoleń, konferencji, kursów - No Tie - talks about skin diseases
LOCATION:Hotel Villa Verde Congress &amp; Spa
URL;VALUE=URI:https://www.konferencjemedyczne.info/en/events/415/no-tie-talks-about-skin-
 diseases.html?tmpl=component
DESCRIPTION:The event we organize, which is becoming more and more popular in the derma
 tology community every year, allows you to expand your substantive and prac
 tical knowledge in a friendly atmosphere without having to "put on ties".\n
 In line with tradition, this edition will also feature an expert panel, whe
 re during the discussion we will be able to solve problems that concern us 
 in our everyday professional practice.\nA high substantive level will be en
 sured by the Scientific Committee consisting of outstanding specialists in 
 the field of pediatric dermatology, surgical dermatology, psoriasis and all
 ergology.\n This event was imported from: https://www.konferencjemedyczne.i
 nfo/en/events/415/no-tie-talks-about-skin-diseases.html?tmpl=component
X-ALT-DESC;FMTTYPE=text/html:<p>The event we organize, which is becoming more and more popular in the de
 rmatology community every year, allows you to expand your substantive and p
 ractical knowledge in a friendly atmosphere without having to "put on ties"
 .</p><p>In line with tradition, this edition will also feature an expert pa
 nel, where during the discussion we will be able to solve problems that con
 cern us in our everyday professional practice.</p><p>A high substantive lev
 el will be ensured by the Scientific Committee consisting of outstanding sp
 ecialists in the field of pediatric dermatology, surgical dermatology, psor
 iasis and allergology.</p> <a href="https://www.konferencjemedyczne.info/en
 /events/415/no-tie-talks-about-skin-diseases.html?tmpl=component">This even
 t was imported from: https://www.konferencjemedyczne.info/en/events/415/no-
 tie-talks-about-skin-diseases.html?tmpl=component</a>DTSTAMP:20260422T105726
DTSTART;VALUE=DATE:20250612
DTEND;VALUE=DATE:20250615
SEQUENCE:0
TRANSP:OPAQUE
END:VEVENT
END:VCALENDAR