BEGIN:VCALENDAR
VERSION:2.0
PRODID:-//jEvents 2.0 for Joomla//EN
CALSCALE:GREGORIAN
METHOD:PUBLISH
BEGIN:VEVENT
UID:32f6771486fbdb881d97b89f359bdbb5
CATEGORIES:medicine, pharmacy, nursing, midwifery
CREATED:20250114T141912
SUMMARY:Kalendarz szkoleń, konferencji, kursów - XXIX Scientific Conference on Advances in Oncological Gynecology
LOCATION:Bachleda Hotel Kasprowy Zakopane
URL;VALUE=URI:https://www.konferencjemedyczne.info/en/events/470/xxix-scientific-conferen
 ce-on-advances-in-oncological-gynecology.html?tmpl=component
DESCRIPTION:We would like to invite you to participate in the XXIX Scientific Conferenc
 e "Advances in Oncological Gynecology", which will be held on September 11-
 12, 2025 at the Bachleda Hotel Kasprowy in Zakopane.\nDespite progress in t
 he field of oncology, reproductive organ cancers remain a huge challenge. O
 ur Conference is part of efforts to increase awareness of financing and the
  current state of research on diagnostics, treatment and prevention. Modern
  treatment methods are constantly changing. New strategies are emerging to 
 increase the effectiveness of therapy and minimize side effects: immunother
 apy, gene therapy are becoming one of the most promising directions, openin
 g up new possibilities in the field of personalized treatment. We would lik
 e to emphasize the role of education and prevention in the comprehensive st
 rategy of our treatment, through the analysis of risk factors, forms of scr
 eening and lifestyle.\nThe main theme of the Conference is comprehensive ca
 re for our patients. Both in terms of prevention, diagnostics and therapy. 
 There is only one patient, the stages of the disease and the diagnostic and
  therapeutic possibilities are different. We have invited expert lecturers 
 in the field of oncological prevention, imaging and molecular diagnostics, 
 as well as outstanding operators, chemotherapeuticians and radiotherapists.
  Thanks to the invited guests and lecturers, we would like to present the e
 ntire spectrum of possibilities of modern oncological gynecology. In the fi
 rst session, we will refer to last year's Conference, through invited guest
 s and lecturers, who will summarize the last year in the implementation of 
 the National Oncological Strategy and the National Oncological Network.\nTh
 e conference will be preceded by Thursday workshops in the field of surgica
 l techniques in oncological gynecology and the possibilities of radiotherap
 y and chemotherapy.\nThe conference is addressed to colleagues gynecologist
 s, obstetricians and gynecological oncologists, chemotherapeuticians, radio
 therapists, radiologists. Currently, in gynecological oncology, a team appr
 oach and good communication between individual team members are so importan
 t, which will be able to ensure improvement of the work effects of individu
 al team members and will allow for improvement of treatment results and the
  level of Polish gynecological oncology.\nDetails: www.onkogin2025.pl\nThe 
 Conference will include:\n• practical workshops - September 11, 2025\n• sci
 entific sessions - September 12, 2025\nThe Conference will cover the follow
 ing topics:\n• surgical techniques in gynecological oncology\n• radiotherap
 y\n• chemotherapy\n• immunotherapy\n• gene therapy\n• imaging diagnostics\n
 • molecular diagnostics\n• prevention and early detection of gynecological 
 cancers\n• National Oncological Strategy and National Oncological Network\n
 • cooperation between specialists\n• et al.\n This event was imported from:
  https://www.konferencjemedyczne.info/en/events/470/xxix-scientific-confere
 nce-on-advances-in-oncological-gynecology.html?tmpl=component (https://www.
 konferencjemedyczne.info/en/events/470/xxix-scientific-conference-on-advanc
 es-in-oncological-gynecology.html?tmpl=component)
X-ALT-DESC;FMTTYPE=text/html:<p>We would like to invite you to participate in the XXIX Scientific Confer
 ence "Advances in Oncological Gynecology", which will be held on September 
 11-12, 2025 at the Bachleda Hotel Kasprowy in Zakopane.</p><p>Despite progr
 ess in the field of oncology, reproductive organ cancers remain a huge chal
 lenge. Our Conference is part of efforts to increase awareness of financing
  and the current state of research on diagnostics, treatment and prevention
 . Modern treatment methods are constantly changing. New strategies are emer
 ging to increase the effectiveness of therapy and minimize side effects: im
 munotherapy, gene therapy are becoming one of the most promising directions
 , opening up new possibilities in the field of personalized treatment. We w
 ould like to emphasize the role of education and prevention in the comprehe
 nsive strategy of our treatment, through the analysis of risk factors, form
 s of screening and lifestyle.</p><p>The main theme of the Conference is com
 prehensive care for our patients. Both in terms of prevention, diagnostics 
 and therapy. There is only one patient, the stages of the disease and the d
 iagnostic and therapeutic possibilities are different. We have invited expe
 rt lecturers in the field of oncological prevention, imaging and molecular 
 diagnostics, as well as outstanding operators, chemotherapeuticians and rad
 iotherapists. Thanks to the invited guests and lecturers, we would like to 
 present the entire spectrum of possibilities of modern oncological gynecolo
 gy. In the first session, we will refer to last year's Conference, through 
 invited guests and lecturers, who will summarize the last year in the imple
 mentation of the National Oncological Strategy and the National Oncological
  Network.</p><p>The conference will be preceded by Thursday workshops in th
 e field of surgical techniques in oncological gynecology and the possibilit
 ies of radiotherapy and chemotherapy.</p><p>The conference is addressed to 
 colleagues gynecologists, obstetricians and gynecological oncologists, chem
 otherapeuticians, radiotherapists, radiologists. Currently, in gynecologica
 l oncology, a team approach and good communication between individual team 
 members are so important, which will be able to ensure improvement of the w
 ork effects of individual team members and will allow for improvement of tr
 eatment results and the level of Polish gynecological oncology.</p><p>Detai
 ls: www.onkogin2025.pl</p><p>The Conference will include:<br />• practical 
 workshops - September 11, 2025</p><p>• scientific sessions - September 12, 
 2025</p><p>The Conference will cover the following topics:<br />• surgical 
 techniques in gynecological oncology<br />• radiotherapy<br />• chemotherap
 y<br />• immunotherapy<br />• gene therapy<br />• imaging diagnostics<br />
 • molecular diagnostics<br />• prevention and early detection of gynecologi
 cal cancers<br />• National Oncological Strategy and National Oncological N
 etwork<br />• cooperation between specialists<br />• et al.</p> <a href="ht
 tps://www.konferencjemedyczne.info/en/events/470/xxix-scientific-conference
 -on-advances-in-oncological-gynecology.html?tmpl=component">This event was 
 imported from: https://www.konferencjemedyczne.info/en/events/470/xxix-scie
 ntific-conference-on-advances-in-oncological-gynecology.html?tmpl=component
 </a>DTSTAMP:20260420T223807
DTSTART;VALUE=DATE:20250911
DTEND;VALUE=DATE:20250913
SEQUENCE:0
TRANSP:OPAQUE
END:VEVENT
END:VCALENDAR