BEGIN:VCALENDAR
VERSION:2.0
PRODID:-//jEvents 2.0 for Joomla//EN
CALSCALE:GREGORIAN
METHOD:PUBLISH
BEGIN:VEVENT
UID:2ee52c4b41268a6b3924621ce8ba1a86
CATEGORIES:veterinary, zootechnics
CREATED:20250410T081715
SUMMARY:Kalendarz szkoleń, konferencji, kursów - Scientific and training conference Veterinary medicine. HOW TO HOLISTICALLY APPROACH A GERIATRIC PATIENT IN A FIRST CONTACT CLINIC?
LOCATION:Novotel Poznań Centrum
URL;VALUE=URI:https://www.konferencjemedyczne.info/en/events/558/scientific-and-training-
 conference-veterinary-medicine-how-to-holistically-approach-a-geriatric-pat
 ient-in-a-first-contact-clinic.html?tmpl=component
DESCRIPTION: <a href="https://www.konferencjemedyczne.info/en/events/558/scientific-and
 -training-conference-veterinary-medicine-how-to-holistically-approach-a-ger
 iatric-patient-in-a-first-contact-clinic.html?tmpl=component">This event wa
 s imported from: https://www.konferencjemedyczne.info/en/events/558/scienti
 fic-and-training-conference-veterinary-medicine-how-to-holistically-approac
 h-a-geriatric-patient-in-a-first-contact-clinic.html?tmpl=component</a>DTSTAMP:20260421T101616
DTSTART;VALUE=DATE:20250913
DTEND;VALUE=DATE:20250915
SEQUENCE:0
TRANSP:OPAQUE
END:VEVENT
END:VCALENDAR