BEGIN:VCALENDAR
VERSION:2.0
PRODID:-//jEvents 2.0 for Joomla//EN
CALSCALE:GREGORIAN
METHOD:PUBLISH
BEGIN:VEVENT
UID:8bdf17849a923e32346c5132c60c3571
CATEGORIES:medicine, pharmacy, nursing, midwifery, dietetics, nutrition, cosmetology, business, management, industry
CREATED:20250802T192158
SUMMARY:Kalendarz szkoleń, konferencji, kursów - Key aspects of the use of active substances in products. Technical challenges and development prospects for the pharmaceutical, cosmetics, and dietary supplement industries.
LOCATION:MediCertLab
URL;VALUE=URI:https://www.konferencjemedyczne.info/en/events/597/key-aspects-of-the-use-o
 f-active-substances-in-products-technical-challenges-and-development-prospe
 cts-for-the-pharmaceutical-cosmetics-and-dietary-su.html?tmpl=component
DESCRIPTION:The conference is aimed at specialists and managers from the dietary supple
 ments, pharmaceuticals, and cosmetics sectors. The program includes expert 
 presentations, discussions on current challenges and industry development p
 rospects, and the exchange of experiences in the research and use of active
  ingredients.\n This event was imported from: https://www.konferencjemedycz
 ne.info/en/events/597/key-aspects-of-the-use-of-active-substances-in-produc
 ts-technical-challenges-and-development-prospects-for-the-pharmaceutical-co
 smetics-and-dietary-su.html?tmpl=component (https://www.konferencjemedyczne
 .info/en/events/597/key-aspects-of-the-use-of-active-substances-in-products
 -technical-challenges-and-development-prospects-for-the-pharmaceutical-cosm
 etics-and-dietary-su.html?tmpl=component)
X-ALT-DESC;FMTTYPE=text/html:<p>The conference is aimed at specialists and managers from the dietary sup
 plements, pharmaceuticals, and cosmetics sectors. The program includes expe
 rt presentations, discussions on current challenges and industry developmen
 t prospects, and the exchange of experiences in the research and use of act
 ive ingredients.</p> <a href="https://www.konferencjemedyczne.info/en/event
 s/597/key-aspects-of-the-use-of-active-substances-in-products-technical-cha
 llenges-and-development-prospects-for-the-pharmaceutical-cosmetics-and-diet
 ary-su.html?tmpl=component">This event was imported from: https://www.konfe
 rencjemedyczne.info/en/events/597/key-aspects-of-the-use-of-active-substanc
 es-in-products-technical-challenges-and-development-prospects-for-the-pharm
 aceutical-cosmetics-and-dietary-su.html?tmpl=component</a>DTSTAMP:20260420T193941
DTSTART;VALUE=DATE:20250909
DTEND;VALUE=DATE:20250910
SEQUENCE:0
TRANSP:OPAQUE
END:VEVENT
END:VCALENDAR