BEGIN:VCALENDAR
VERSION:2.0
PRODID:-//jEvents 2.0 for Joomla//EN
CALSCALE:GREGORIAN
METHOD:PUBLISH
BEGIN:VEVENT
UID:648ff675b57d43ac23da424716255ac9
CATEGORIES:medicine
CREATED:20251119T155741
SUMMARY:Kalendarz szkoleń, konferencji, kursów - The role of the multidisciplinary team (MDT) in the diagnosis, treatment and care of patients with neurofibromatosis type 1 (NF1) - Part II
LOCATION:ONLINE
URL;VALUE=URI:https://www.konferencjemedyczne.info/en/events/657/the-role-of-the-multidis
 ciplinary-team-mdt-in-the-diagnosis-treatment-and-care-of-patients-with-neu
 rofibromatosis-type-1-nf1-part-ii.html?tmpl=component
DESCRIPTION:<p>We cordially invite you to participate in the webinar entitled: "The Rol
 e of the Multidisciplinary Team (MDT) in the Diagnosis, Treatment, and Care
  of Patients with Neurofibromatosis Type 1 (NF1) - Part II," which will tak
 e place on December 3, 2025, at 6:00 PM.</p><p>During the webinar, speciali
 sts will discuss the collaboration between NFologists and specialists in ne
 urology, orthopedics, and neurosurgery, focusing on their specific role in 
 the diagnostic and therapeutic process of plexiform neurofibromas in NF1.</
 p><p>Detailed information and free registration can be found on the event w
 ebsite:</p><p>https://onkologia-dziecieca.pl/webinar/58-rola-multidyscyplin
 arnego-zespolu-mdt-w-diagnozowaniu-leczeniu-i-opie-pacjentow-z-neurofibroma
 toza-typu-1-nf1-czesc-ii</p> <a href="https://www.konferencjemedyczne.info/
 en/events/657/the-role-of-the-multidisciplinary-team-mdt-in-the-diagnosis-t
 reatment-and-care-of-patients-with-neurofibromatosis-type-1-nf1-part-ii.htm
 l?tmpl=component">This event was imported from: https://www.konferencjemedy
 czne.info/en/events/657/the-role-of-the-multidisciplinary-team-mdt-in-the-d
 iagnosis-treatment-and-care-of-patients-with-neurofibromatosis-type-1-nf1-p
 art-ii.html?tmpl=component</a>DTSTAMP:20260422T183955
DTSTART;VALUE=DATE:20251203
DTEND;VALUE=DATE:20251204
SEQUENCE:0
TRANSP:OPAQUE
END:VEVENT
END:VCALENDAR