BEGIN:VCALENDAR
VERSION:2.0
PRODID:-//jEvents 2.0 for Joomla//EN
CALSCALE:GREGORIAN
METHOD:PUBLISH
BEGIN:VEVENT
UID:960dc4b50f24b7916699774863753c84
CATEGORIES:medicine
CREATED:20251212T094018
SUMMARY:Kalendarz szkoleń, konferencji, kursów - XXIV Scientific and Training Conference on Advances in Vascular Surgery
LOCATION:Hotel Król Kazimierz
URL;VALUE=URI:https://www.konferencjemedyczne.info/en/events/679/xxiv-scientific-and-trai
 ning-conference-on-advances-in-vascular-surgery.html?tmpl=component
DESCRIPTION:<p>This long-standing conference, attended by international guests, is a co
 ntinuation of meetings with vascular surgeons, interventional radiologists,
  phlebologists, angiologists, and general surgeons specializing in vascular
  issues. Detailed information is available at vascular2026.skolamed.pl.</p>
  <a href="https://www.konferencjemedyczne.info/en/events/679/xxiv-scientifi
 c-and-training-conference-on-advances-in-vascular-surgery.html?tmpl=compone
 nt">This event was imported from: https://www.konferencjemedyczne.info/en/e
 vents/679/xxiv-scientific-and-training-conference-on-advances-in-vascular-s
 urgery.html?tmpl=component</a>DTSTAMP:20260420T172139
DTSTART;VALUE=DATE:20260507
DTEND;VALUE=DATE:20260510
SEQUENCE:0
TRANSP:OPAQUE
END:VEVENT
END:VCALENDAR