BEGIN:VCALENDAR
VERSION:2.0
PRODID:-//jEvents 2.0 for Joomla//EN
CALSCALE:GREGORIAN
METHOD:PUBLISH
BEGIN:VEVENT
UID:29613b032910e7dd425609302817b2c8
CATEGORIES:medicine, medical diagnostics, medical technology
CREATED:20251212T125316
SUMMARY:Kalendarz szkoleń, konferencji, kursów - Scientific and Training Conference Bieszczady Neurological Days
LOCATION:Hilton Garden Inn Rzeszów
URL;VALUE=URI:https://www.konferencjemedyczne.info/en/events/683/scientific-and-training-
 conference-bieszczady-neurological-days.html?tmpl=component
DESCRIPTION:The Bieszczady Neurological Days traditionally cover the diagnosis and trea
 tment of the most important neurological conditions. The conference format 
 has remained unchanged for years and continues to be popular with attendees
 . Detailed information is available at bdn2026.skolamed.pl.\n This event wa
 s imported from: https://www.konferencjemedyczne.info/en/events/683/scienti
 fic-and-training-conference-bieszczady-neurological-days.html?tmpl=componen
 t (https://www.konferencjemedyczne.info/en/events/683/scientific-and-traini
 ng-conference-bieszczady-neurological-days.html?tmpl=component)
X-ALT-DESC;FMTTYPE=text/html:<p>The Bieszczady Neurological Days traditionally cover the diagnosis and t
 reatment of the most important neurological conditions. The conference form
 at has remained unchanged for years and continues to be popular with attend
 ees. Detailed information is available at bdn2026.skolamed.pl.</p> <a href=
 "https://www.konferencjemedyczne.info/en/events/683/scientific-and-training
 -conference-bieszczady-neurological-days.html?tmpl=component">This event wa
 s imported from: https://www.konferencjemedyczne.info/en/events/683/scienti
 fic-and-training-conference-bieszczady-neurological-days.html?tmpl=componen
 t</a>DTSTAMP:20260420T223433
DTSTART;VALUE=DATE:20261106
DTEND;VALUE=DATE:20261108
SEQUENCE:0
TRANSP:OPAQUE
END:VEVENT
END:VCALENDAR