BEGIN:VCALENDAR
VERSION:2.0
PRODID:-//jEvents 2.0 for Joomla//EN
CALSCALE:GREGORIAN
METHOD:PUBLISH
BEGIN:VEVENT
UID:021119e2cd67519722cdccc38a5fc959
CATEGORIES:medicine
CREATED:20251219T101359
SUMMARY:Kalendarz szkoleń, konferencji, kursów - Latest news from ASH 2025
LOCATION:ONLINE
URL;VALUE=URI:https://www.konferencjemedyczne.info/en/events/687/latest-news-from-ash-202
 5.html?tmpl=component
DESCRIPTION:We cordially invite you to participate in the next edition of the conferenc
 e, "Latest News from ASH 2025," which will take place from January 12-14, 2
 026. Sessions will begin at 6:00 PM each day.\nThe event provides a unique 
 opportunity to learn about the most important and up-to-date information pr
 esented at the annual meeting of the American Society of Hematology (ASH), 
 one of the most important events in global hematology.\nThe program include
 s discussions of groundbreaking clinical trials, interpretation of new ther
 apeutic guidelines, and expert commentary on the importance of the presente
 d reports in clinical practice.\nDetailed information and free registration
  will be available on the event website:\nhttps://hematoonkologia.pl/webina
 ry/182-najnowsze-doniesienie-z-ash-2025\nWe invite you to participate!\n Th
 is event was imported from: https://www.konferencjemedyczne.info/en/events/
 687/latest-news-from-ash-2025.html?tmpl=component (https://www.konferencjem
 edyczne.info/en/events/687/latest-news-from-ash-2025.html?tmpl=component)
X-ALT-DESC;FMTTYPE=text/html:<p>We cordially invite you to participate in the next edition of the confer
 ence, "Latest News from ASH 2025," which will take place from January 12-14
 , 2026. Sessions will begin at 6:00 PM each day.</p><p>The event provides a
  unique opportunity to learn about the most important and up-to-date inform
 ation presented at the annual meeting of the American Society of Hematology
  (ASH), one of the most important events in global hematology.</p><p>The pr
 ogram includes discussions of groundbreaking clinical trials, interpretatio
 n of new therapeutic guidelines, and expert commentary on the importance of
  the presented reports in clinical practice.</p><p>Detailed information and
  free registration will be available on the event website:</p><p>https://he
 matoonkologia.pl/webinary/182-najnowsze-doniesienie-z-ash-2025</p><p>We inv
 ite you to participate!</p> <a href="https://www.konferencjemedyczne.info/e
 n/events/687/latest-news-from-ash-2025.html?tmpl=component">This event was 
 imported from: https://www.konferencjemedyczne.info/en/events/687/latest-ne
 ws-from-ash-2025.html?tmpl=component</a>DTSTAMP:20260422T190139
DTSTART;VALUE=DATE:20260112
DTEND;VALUE=DATE:20260113
SEQUENCE:0
TRANSP:OPAQUE
END:VEVENT
END:VCALENDAR