BEGIN:VCALENDAR
VERSION:2.0
PRODID:-//jEvents 2.0 for Joomla//EN
CALSCALE:GREGORIAN
METHOD:PUBLISH
BEGIN:VEVENT
UID:4364e0ce81b683e9acbffe15d73ee212
CATEGORIES:medicine
CREATED:20260206T085004
SUMMARY:Kalendarz szkoleń, konferencji, kursów - Rare Diseases in Hematology
LOCATION:ONLINE
URL;VALUE=URI:https://www.konferencjemedyczne.info/en/events/707/rare-diseases-in-hematol
 ogy.html?tmpl=component
DESCRIPTION:We invite you to participate in the online conference: "Rare Diseases in He
 matology," which will take place on February 24-25, 2026. Sessions will beg
 in at 5:00 PM.\nThe event has been designed with a format that clearly dist
 inguishes it from standard scientific conferences. Participants will hear a
 bout diseases that rarely appear on the agendas of other educational meetin
 gs, and some remain virtually absent from mainstream conference discussions
 . A key premise of the program is to focus on common clinical symptoms unde
 rlying rare diseases, which often require in-depth diagnostics and an inter
 disciplinary approach.\nDetailed information and registration are available
  on the event website:\nhttps://hematoonkologia.pl/webinary/188-choroby-rza
 dkie-w-hematologii\n This event was imported from: https://www.konferencjem
 edyczne.info/en/events/707/rare-diseases-in-hematology.html?tmpl=component 
 (https://www.konferencjemedyczne.info/en/events/707/rare-diseases-in-hemato
 logy.html?tmpl=component)
X-ALT-DESC;FMTTYPE=text/html:<p>We invite you to participate in the online conference: "Rare Diseases in
  Hematology," which will take place on February 24-25, 2026. Sessions will 
 begin at 5:00 PM.</p><p>The event has been designed with a format that clea
 rly distinguishes it from standard scientific conferences. Participants wil
 l hear about diseases that rarely appear on the agendas of other educationa
 l meetings, and some remain virtually absent from mainstream conference dis
 cussions. A key premise of the program is to focus on common clinical sympt
 oms underlying rare diseases, which often require in-depth diagnostics and 
 an interdisciplinary approach.</p><p>Detailed information and registration 
 are available on the event website:</p><p>https://hematoonkologia.pl/webina
 ry/188-choroby-rzadkie-w-hematologii</p> <a href="https://www.konferencjeme
 dyczne.info/en/events/707/rare-diseases-in-hematology.html?tmpl=component">
 This event was imported from: https://www.konferencjemedyczne.info/en/event
 s/707/rare-diseases-in-hematology.html?tmpl=component</a>DTSTAMP:20260422T122736
DTSTART;VALUE=DATE:20260224
DTEND;VALUE=DATE:20260226
SEQUENCE:0
TRANSP:OPAQUE
END:VEVENT
END:VCALENDAR