BEGIN:VCALENDAR
VERSION:2.0
PRODID:-//jEvents 2.0 for Joomla//EN
CALSCALE:GREGORIAN
METHOD:PUBLISH
BEGIN:VEVENT
UID:6d485cbc04de491b05ac8eda9b410d47
CATEGORIES:medycyna
CREATED:20240803T183511
SUMMARY:Kalendarz szkoleń, konferencji, kursów - XLIV Zjazd Polskiego Towarzystwa Ortopedycznego i Traumatologicznego
LOCATION:Międzynarodowe Centrum Kongresowe w Katowicach
URL;VALUE=URI:https://www.konferencjemedyczne.info/pl/o/187/xliv-zjazd-polskiego-towarzys
 twa-ortopedycznego-i-traumatologicznego.html?tmpl=component
DESCRIPTION:Szanowni Państwo!\nZ wielką przyjemnością zapraszamy koleżanki i kolegów na
  XLIV Zjazd Naukowy Polskiego Towarzystwa Ortopedycznego i Traumatologiczne
 go, który odbędzie się w dniach 12–14 września 2024 roku w Katowicach.\nOrg
 anizatorem Zjazdu będzie Samodzielny Publiczny Wojewódzki Szpital Chirurgii
  Urazowej\nim. dra Janusza Daaba w Piekarach Śląskich. Szpital szczyci się 
 wieloletnią historią związaną z rozwojem chirurgii urazowo-ortopedycznej. B
 ył gospodarzem wielu szkoleń i sympozjów. Organizacja tak ważnego wydarzeni
 a jest dla nas ogromnym zaszczytem.\nNasze spotkanie odbędzie się w Międzyn
 arodowym Centrum Kongresowym w Katowicach. Centrum posiada nowoczesne moduł
 owe zaplecze audiowizualne.\nTematy, które będziemy poruszali w czasie Zjaz
 du, to:\n- ortopedia onkologiczna,\n- protezoplastyka stawów biodrowego i k
 olanowego,\n- traumatologia.\nNie zabraknie też miejsca na tematy wolne.\nS
 erdecznie zapraszamy do czynnego udziału.\n \nMgr inż. Elżbieta Jabłońska  
                           \nDyrektor                                       
                           \nDr n. med. Ryszard Faltus\nZ-ca Dyrektora ds. m
 edycznych\n This event was imported from: https://www.konferencjemedyczne.i
 nfo/pl/o/187/xliv-zjazd-polskiego-towarzystwa-ortopedycznego-i-traumatologi
 cznego.html?tmpl=component
X-ALT-DESC;FMTTYPE=text/html:<p>Szanowni Państwo!</p><p>Z wielką przyjemnością zapraszamy koleżanki i ko
 legów na XLIV Zjazd Naukowy Polskiego Towarzystwa Ortopedycznego i Traumato
 logicznego, który odbędzie się w dniach 12–14 września 2024 roku w Katowica
 ch.</p><p>Organizatorem Zjazdu będzie Samodzielny Publiczny Wojewódzki Szpi
 tal Chirurgii Urazowej<br />im. dra Janusza Daaba w Piekarach Śląskich. Szp
 ital szczyci się wieloletnią historią związaną z rozwojem chirurgii urazowo
 -ortopedycznej. Był gospodarzem wielu szkoleń i sympozjów. Organizacja tak 
 ważnego wydarzenia jest dla nas ogromnym zaszczytem.</p><p>Nasze spotkanie 
 odbędzie się w Międzynarodowym Centrum Kongresowym w Katowicach. Centrum po
 siada nowoczesne modułowe zaplecze audiowizualne.</p><p>Tematy, które będzi
 emy poruszali w czasie Zjazdu, to:</p><p>- ortopedia onkologiczna,<br />- p
 rotezoplastyka stawów biodrowego i kolanowego,<br />- traumatologia.</p><p>
 Nie zabraknie też miejsca na tematy wolne.</p><p>Serdecznie zapraszamy do c
 zynnego udziału.</p><p> </p><p>Mgr inż. Elżbieta Jabłońska                 
            <br />Dyrektor                                                  
                </p><p>Dr n. med. Ryszard Faltus<br />Z-ca Dyrektora ds. med
 ycznych</p> <a href="https://www.konferencjemedyczne.info/pl/o/187/xliv-zja
 zd-polskiego-towarzystwa-ortopedycznego-i-traumatologicznego.html?tmpl=comp
 onent">This event was imported from: https://www.konferencjemedyczne.info/p
 l/o/187/xliv-zjazd-polskiego-towarzystwa-ortopedycznego-i-traumatologiczneg
 o.html?tmpl=component</a>DTSTAMP:20260421T054624
DTSTART;VALUE=DATE:20240912
DTEND;VALUE=DATE:20240915
SEQUENCE:0
TRANSP:OPAQUE
END:VEVENT
END:VCALENDAR