BEGIN:VCALENDAR
VERSION:2.0
PRODID:-//jEvents 2.0 for Joomla//EN
CALSCALE:GREGORIAN
METHOD:PUBLISH
BEGIN:VEVENT
UID:a739134dbb47e7215bf1fd9d749ce9df
CATEGORIES:medycyna, prawo
CREATED:20240822T163753
SUMMARY:Kalendarz szkoleń, konferencji, kursów -  V Ogólnopolska konferencja PANDa
LOCATION:ibis Styles Lublin Stare Miasto
URL;VALUE=URI:https://www.konferencjemedyczne.info/pl/o/276/v-ogolnopolska-konferencja-pa
 nda.html?tmpl=component
DESCRIPTION:<p>Tematyka konferencji medycznej V Ogólnopolska konferencja PANDa:</p><p>-
  pediatria<br />- rehabilitacja<br />- ortopedia<br />- prawo</p><p>Szczegó
 ły na stronie Organizatora.</p> <a href="https://www.konferencjemedyczne.in
 fo/pl/o/276/v-ogolnopolska-konferencja-panda.html?tmpl=component">This even
 t was imported from: https://www.konferencjemedyczne.info/pl/o/276/v-ogolno
 polska-konferencja-panda.html?tmpl=component</a>DTSTAMP:20260422T141112
DTSTART;VALUE=DATE:20241108
DTEND;VALUE=DATE:20241111
SEQUENCE:0
TRANSP:OPAQUE
END:VEVENT
END:VCALENDAR