BEGIN:VCALENDAR
VERSION:2.0
PRODID:-//jEvents 2.0 for Joomla//EN
CALSCALE:GREGORIAN
METHOD:PUBLISH
BEGIN:VEVENT
UID:420bf8cbec8b0a6f313ce0d1b28160e2
CATEGORIES:medycyna, psychologia
CREATED:20240823T122612
SUMMARY:Kalendarz szkoleń, konferencji, kursów -  VII PSYCHIATRIA DIALOGI INTERDYSCYPLINARNE
LOCATION:Hotel ibis Styles Wrocław Centrum
URL;VALUE=URI:https://www.konferencjemedyczne.info/pl/o/281/vii-psychiatria-dialogi-inter
 dyscyplinarne.html?tmpl=component
DESCRIPTION:<p>Tematyka konferencji medycznej VII PSYCHIATRIA DIALOGI INTERDYSCYPLINARN
 E:</p><p>• psychiatria</p><p>•psychologia</p><p>Szczegóły na stronie Organi
 zatora.</p> <a href="https://www.konferencjemedyczne.info/pl/o/281/vii-psyc
 hiatria-dialogi-interdyscyplinarne.html?tmpl=component">This event was impo
 rted from: https://www.konferencjemedyczne.info/pl/o/281/vii-psychiatria-di
 alogi-interdyscyplinarne.html?tmpl=component</a>DTSTAMP:20260420T172058
DTSTART;VALUE=DATE:20241011
DTEND;VALUE=DATE:20241013
SEQUENCE:0
TRANSP:OPAQUE
END:VEVENT
END:VCALENDAR