BEGIN:VCALENDAR
VERSION:2.0
PRODID:-//jEvents 2.0 for Joomla//EN
CALSCALE:GREGORIAN
METHOD:PUBLISH
BEGIN:VEVENT
UID:54e7585e56893acb4714d8621d3ca25c
CATEGORIES:medycyna, dietetyka, żywienie
CREATED:20240826T150137
SUMMARY:Kalendarz szkoleń, konferencji, kursów - III Kongres Polskiego Towarzystwa Leczenia Otyłości
LOCATION:Focus Hotel Premium Warszawa
URL;VALUE=URI:https://www.konferencjemedyczne.info/pl/o/305/iii-kongres-polskiego-towarzy
 stwa-leczenia-otylosci.html?tmpl=component
DESCRIPTION:<p>Tematyka konferencji medycznej III Kongres Polskiego Towarzystwa Leczeni
 a Otyłości : </p><p>• dietetyka</p><p>Szczegóły na stronie Organizatora.</p
 > <a href="https://www.konferencjemedyczne.info/pl/o/305/iii-kongres-polski
 ego-towarzystwa-leczenia-otylosci.html?tmpl=component">This event was impor
 ted from: https://www.konferencjemedyczne.info/pl/o/305/iii-kongres-polskie
 go-towarzystwa-leczenia-otylosci.html?tmpl=component</a>DTSTAMP:20260421T212706
DTSTART;VALUE=DATE:20241206
DTEND;VALUE=DATE:20241208
SEQUENCE:0
TRANSP:OPAQUE
END:VEVENT
END:VCALENDAR