BEGIN:VCALENDAR
VERSION:2.0
PRODID:-//jEvents 2.0 for Joomla//EN
CALSCALE:GREGORIAN
METHOD:PUBLISH
BEGIN:VEVENT
UID:c60ac9083bfdb6d1453b4e68ef7c9e04
CATEGORIES:farmacja
CREATED:20240826T162356
SUMMARY:Kalendarz szkoleń, konferencji, kursów -  II Warsztaty AKADEMIA FARMACEUTY Gorące Tematy w Farmacji
LOCATION:Poznań - brak szczegółów
URL;VALUE=URI:https://www.konferencjemedyczne.info/pl/o/312/ii-warsztaty-akademia-farmace
 uty-gorace-tematy-w-farmacji.html?tmpl=component
DESCRIPTION:<p>Tematyka konferencji medycznej II Warsztaty AKADEMIA FARMACEUTY Gorące T
 ematy w Farmacji to farmacja.</p><p>Szczegóły na stronie Organizatora.</p><
 p> </p> <a href="https://www.konferencjemedyczne.info/pl/o/312/ii-warsztaty
 -akademia-farmaceuty-gorace-tematy-w-farmacji.html?tmpl=component">This eve
 nt was imported from: https://www.konferencjemedyczne.info/pl/o/312/ii-wars
 ztaty-akademia-farmaceuty-gorace-tematy-w-farmacji.html?tmpl=component</a>DTSTAMP:20260422T155007
DTSTART;VALUE=DATE:20241123
DTEND;VALUE=DATE:20241124
SEQUENCE:0
TRANSP:OPAQUE
END:VEVENT
END:VCALENDAR