BEGIN:VCALENDAR
VERSION:2.0
PRODID:-//jEvents 2.0 for Joomla//EN
CALSCALE:GREGORIAN
METHOD:PUBLISH
BEGIN:VEVENT
UID:d4072f265b70d377616a6cce8ad177f2
CATEGORIES:medycyna
CREATED:20240826T163603
SUMMARY:Kalendarz szkoleń, konferencji, kursów - XVII Top Pulmonological Trends
LOCATION:Poznań - brak szczegółów
URL;VALUE=URI:https://www.konferencjemedyczne.info/pl/o/314/xvii-top-pulmonological-trend
 s.html?tmpl=component
DESCRIPTION:<p>Tematyka konferencji medycznej XVII Top Pulmonological Trends to Pulmono
 logia.</p><p>Szczegóły na stronie Organizatora.</p><p> </p> <a href="https:
 //www.konferencjemedyczne.info/pl/o/314/xvii-top-pulmonological-trends.html
 ?tmpl=component">This event was imported from: https://www.konferencjemedyc
 zne.info/pl/o/314/xvii-top-pulmonological-trends.html?tmpl=component</a>DTSTAMP:20260422T153617
DTSTART;VALUE=DATE:20241128
DTEND;VALUE=DATE:20241201
SEQUENCE:0
TRANSP:OPAQUE
END:VEVENT
END:VCALENDAR