BEGIN:VCALENDAR
VERSION:2.0
PRODID:-//jEvents 2.0 for Joomla//EN
CALSCALE:GREGORIAN
METHOD:PUBLISH
BEGIN:VEVENT
UID:e4a9fe42af11b22a622d38325ab59671
CATEGORIES:medycyna
CREATED:20240826T164115
SUMMARY:Kalendarz szkoleń, konferencji, kursów - PRAKTYCZNE WYTYCZNE I STANDARDY W OPIECE KOORDYNOWANEJ. 20-LECIE FEDERACJI POROZUMIENIE ZIELONOGÓRSKIE
LOCATION:Focus Hotel Premium Warszawa
URL;VALUE=URI:https://www.konferencjemedyczne.info/pl/o/315/praktyczne-wytyczne-i-standar
 dy-w-opiece-koordynowanej-20-lecie-federacji-porozumienie-zielonogorskie.ht
 ml?tmpl=component
DESCRIPTION:<p>Tematyka konferencji medycznej PRAKTYCZNE WYTYCZNE I STANDARDY W OPIECE 
 KOORDYNOWANEJ. 20-LECIE FEDERACJI POROZUMIENIE ZIELONOGÓRSKIE to opieka koo
 rdynowana.</p><p>Szczegóły na stronie Organizatora.</p> <a href="https://ww
 w.konferencjemedyczne.info/pl/o/315/praktyczne-wytyczne-i-standardy-w-opiec
 e-koordynowanej-20-lecie-federacji-porozumienie-zielonogorskie.html?tmpl=co
 mponent">This event was imported from: https://www.konferencjemedyczne.info
 /pl/o/315/praktyczne-wytyczne-i-standardy-w-opiece-koordynowanej-20-lecie-f
 ederacji-porozumienie-zielonogorskie.html?tmpl=component</a>DTSTAMP:20260421T170921
DTSTART;VALUE=DATE:20241129
DTEND;VALUE=DATE:20241201
SEQUENCE:0
TRANSP:OPAQUE
END:VEVENT
END:VCALENDAR