BEGIN:VCALENDAR
VERSION:2.0
PRODID:-//jEvents 2.0 for Joomla//EN
CALSCALE:GREGORIAN
METHOD:PUBLISH
BEGIN:VEVENT
UID:593f76591dfcb210f9298cf403b9414a
CATEGORIES:medycyna
CREATED:20240828T134007
SUMMARY:Kalendarz szkoleń, konferencji, kursów -  XVI Konferencja Trendy w reumatologii na przełomie 2024/2025
LOCATION:Hotel ibis Styles Wrocław Centrum
URL;VALUE=URI:https://www.konferencjemedyczne.info/pl/o/330/xvi-konferencja-trendy-w-reum
 atologii-na-przelomie-2024-2025.html?tmpl=component
DESCRIPTION:<p>Tematyka konferencji medycznej XVI Konferencja Trendy w reumatologii na 
 przełomie 2024/2025 to reumatologia.</p><p>Szczegóły na stronie Organizator
 a.</p> <a href="https://www.konferencjemedyczne.info/pl/o/330/xvi-konferenc
 ja-trendy-w-reumatologii-na-przelomie-2024-2025.html?tmpl=component">This e
 vent was imported from: https://www.konferencjemedyczne.info/pl/o/330/xvi-k
 onferencja-trendy-w-reumatologii-na-przelomie-2024-2025.html?tmpl=component
 </a>DTSTAMP:20260420T175003
DTSTART;VALUE=DATE:20250320
DTEND;VALUE=DATE:20250322
SEQUENCE:0
TRANSP:OPAQUE
END:VEVENT
END:VCALENDAR