BEGIN:VCALENDAR
VERSION:2.0
PRODID:-//jEvents 2.0 for Joomla//EN
CALSCALE:GREGORIAN
METHOD:PUBLISH
BEGIN:VEVENT
UID:bdf567d9941cd8449dc358bb87f101f0
CATEGORIES:medycyna
CREATED:20240828T153021
SUMMARY:Kalendarz szkoleń, konferencji, kursów - IX Konferencja Cardiolipid
LOCATION:Novotel Gdańsk Marina
URL;VALUE=URI:https://www.konferencjemedyczne.info/pl/o/343/ix-konferencja-cardiolipid.ht
 ml?tmpl=component
DESCRIPTION:Tematyka konferencji medycznej IX Konferencja Cardiolipid to kardiologia, h
 ipertensjologia, choroby wewnętrzne.\nSzczegóły na stronie Organizatora.\n 
 This event was imported from: https://www.konferencjemedyczne.info/pl/o/343
 /ix-konferencja-cardiolipid.html?tmpl=component (https://www.konferencjemed
 yczne.info/pl/o/343/ix-konferencja-cardiolipid.html?tmpl=component)
X-ALT-DESC;FMTTYPE=text/html:<p>Tematyka konferencji medycznej IX Konferencja Cardiolipid to kardiologia
 , hipertensjologia, choroby wewnętrzne.</p><p>Szczegóły na stronie Organiza
 tora.</p> <a href="https://www.konferencjemedyczne.info/pl/o/343/ix-konfere
 ncja-cardiolipid.html?tmpl=component">This event was imported from: https:/
 /www.konferencjemedyczne.info/pl/o/343/ix-konferencja-cardiolipid.html?tmpl
 =component</a>DTSTAMP:20260421T120751
DTSTART;VALUE=DATE:20240907
DTEND;VALUE=DATE:20240909
SEQUENCE:0
TRANSP:OPAQUE
END:VEVENT
END:VCALENDAR