BEGIN:VCALENDAR
VERSION:2.0
PRODID:-//jEvents 2.0 for Joomla//EN
CALSCALE:GREGORIAN
METHOD:PUBLISH
BEGIN:VEVENT
UID:db9d63401b040bc8b45ff5111259be33
CATEGORIES:medycyna
CREATED:20240828T155249
SUMMARY:Kalendarz szkoleń, konferencji, kursów -  Hematologia na Banacha
LOCATION:Renaissance Warsaw Airport Hotel
URL;VALUE=URI:https://www.konferencjemedyczne.info/pl/o/349/hematologia-na-banacha.html?t
 mpl=component
DESCRIPTION:Tematyka konferencji medycznej Hematologia na Banacha to transfuzjologia, h
 ematologia.\nSzczegóły na stronie Organizatora.\n This event was imported f
 rom: https://www.konferencjemedyczne.info/pl/o/349/hematologia-na-banacha.h
 tml?tmpl=component (https://www.konferencjemedyczne.info/pl/o/349/hematolog
 ia-na-banacha.html?tmpl=component)
X-ALT-DESC;FMTTYPE=text/html:<p>Tematyka konferencji medycznej Hematologia na Banacha to transfuzjologia
 , hematologia.</p><p>Szczegóły na stronie Organizatora.</p> <a href="https:
 //www.konferencjemedyczne.info/pl/o/349/hematologia-na-banacha.html?tmpl=co
 mponent">This event was imported from: https://www.konferencjemedyczne.info
 /pl/o/349/hematologia-na-banacha.html?tmpl=component</a>DTSTAMP:20260421T120803
DTSTART;VALUE=DATE:20240928
DTEND;VALUE=DATE:20240929
SEQUENCE:0
TRANSP:OPAQUE
END:VEVENT
END:VCALENDAR