BEGIN:VCALENDAR
VERSION:2.0
PRODID:-//jEvents 2.0 for Joomla//EN
CALSCALE:GREGORIAN
METHOD:PUBLISH
BEGIN:VEVENT
UID:42c7d1e6ec20600c47226102ba02c86d
CATEGORIES:medycyna
CREATED:20240828T155751
SUMMARY:Kalendarz szkoleń, konferencji, kursów - Warsaw Skin Cancer Conference 2024
LOCATION:Hotel Courtyard by Marriott Warsaw Airport
URL;VALUE=URI:https://www.konferencjemedyczne.info/pl/o/351/warsaw-skin-cancer-conference
 -2024.html?tmpl=component
DESCRIPTION:Tematyka konferencji medycznej Warsaw Skin Cancer Conference 2024 to radiot
 erapia onkologiczna, chirurgia onkologiczna, dermatologia, onkologia.\nSzcz
 egóły na stronie Organizatora.\n This event was imported from: https://www.
 konferencjemedyczne.info/pl/o/351/warsaw-skin-cancer-conference-2024.html?t
 mpl=component
X-ALT-DESC;FMTTYPE=text/html:<p>Tematyka konferencji medycznej Warsaw Skin Cancer Conference 2024 to rad
 ioterapia onkologiczna, chirurgia onkologiczna, dermatologia, onkologia.</p
 ><p>Szczegóły na stronie Organizatora.</p> <a href="https://www.konferencje
 medyczne.info/pl/o/351/warsaw-skin-cancer-conference-2024.html?tmpl=compone
 nt">This event was imported from: https://www.konferencjemedyczne.info/pl/o
 /351/warsaw-skin-cancer-conference-2024.html?tmpl=component</a>DTSTAMP:20260421T152229
DTSTART;VALUE=DATE:20241004
DTEND;VALUE=DATE:20241005
SEQUENCE:0
TRANSP:OPAQUE
END:VEVENT
END:VCALENDAR