BEGIN:VCALENDAR
VERSION:2.0
PRODID:-//jEvents 2.0 for Joomla//EN
CALSCALE:GREGORIAN
METHOD:PUBLISH
BEGIN:VEVENT
UID:9fec2a7cfaa95bd5640d72be47e11929
CATEGORIES:medycyna
CREATED:20240828T162050
SUMMARY:Kalendarz szkoleń, konferencji, kursów - Niepożądane działania podczas leczenia przeciwnowotworowego — przeciwdziałanie, rozpoznawanie i leczenie
LOCATION:Kielce - brak szegółów
URL;VALUE=URI:https://www.konferencjemedyczne.info/pl/o/357/niepozadane-dzialania-podczas
 -leczenia-przeciwnowotworowego-przeciwdzialanie-rozpoznawanie-i-leczenie.ht
 ml?tmpl=component
DESCRIPTION:Tematyka konferencji medycznej Niepożądane działania podczas leczenia przec
 iwnowotworowego — przeciwdziałanie, rozpoznawanie i leczenie to radioterapi
 a onkologiczna, chirurgia onkologiczna, ginekologia onkologiczna, onkologia
 .\nSzczegóły na stronie Organizatora.\n This event was imported from: https
 ://www.konferencjemedyczne.info/pl/o/357/niepozadane-dzialania-podczas-lecz
 enia-przeciwnowotworowego-przeciwdzialanie-rozpoznawanie-i-leczenie.html?tm
 pl=component (https://www.konferencjemedyczne.info/pl/o/357/niepozadane-dzi
 alania-podczas-leczenia-przeciwnowotworowego-przeciwdzialanie-rozpoznawanie
 -i-leczenie.html?tmpl=component)
X-ALT-DESC;FMTTYPE=text/html:<p>Tematyka konferencji medycznej Niepożądane działania podczas leczenia pr
 zeciwnowotworowego — przeciwdziałanie, rozpoznawanie i leczenie to radioter
 apia onkologiczna, chirurgia onkologiczna, ginekologia onkologiczna, onkolo
 gia.</p><p>Szczegóły na stronie Organizatora.</p> <a href="https://www.konf
 erencjemedyczne.info/pl/o/357/niepozadane-dzialania-podczas-leczenia-przeci
 wnowotworowego-przeciwdzialanie-rozpoznawanie-i-leczenie.html?tmpl=componen
 t">This event was imported from: https://www.konferencjemedyczne.info/pl/o/
 357/niepozadane-dzialania-podczas-leczenia-przeciwnowotworowego-przeciwdzia
 lanie-rozpoznawanie-i-leczenie.html?tmpl=component</a>DTSTAMP:20260421T115255
DTSTART;VALUE=DATE:20241026
DTEND;VALUE=DATE:20241027
SEQUENCE:0
TRANSP:OPAQUE
END:VEVENT
END:VCALENDAR