BEGIN:VCALENDAR
VERSION:2.0
PRODID:-//jEvents 2.0 for Joomla//EN
CALSCALE:GREGORIAN
METHOD:PUBLISH
BEGIN:VEVENT
UID:79aefb238e3b6c610ad31e6f5fcdc638
CATEGORIES:medycyna
CREATED:20240829T124705
SUMMARY:Kalendarz szkoleń, konferencji, kursów - Warsaw Sarcoma Meeting 2024
LOCATION:Warszawa - brak szegółów
URL;VALUE=URI:https://www.konferencjemedyczne.info/pl/o/366/warsaw-sarcoma-meeting-2024.h
 tml?tmpl=component
DESCRIPTION:Tematyka konferencji medycznej Warsaw Sarcoma Meeting 2024 to onkologia.\nS
 zczegóły na stronie Organizatora.\n This event was imported from: https://w
 ww.konferencjemedyczne.info/pl/o/366/warsaw-sarcoma-meeting-2024.html?tmpl=
 component (https://www.konferencjemedyczne.info/pl/o/366/warsaw-sarcoma-mee
 ting-2024.html?tmpl=component)
X-ALT-DESC;FMTTYPE=text/html:<p>Tematyka konferencji medycznej Warsaw Sarcoma Meeting 2024 to onkologia.
 </p><p>Szczegóły na stronie Organizatora.</p> <a href="https://www.konferen
 cjemedyczne.info/pl/o/366/warsaw-sarcoma-meeting-2024.html?tmpl=component">
 This event was imported from: https://www.konferencjemedyczne.info/pl/o/366
 /warsaw-sarcoma-meeting-2024.html?tmpl=component</a>DTSTAMP:20260421T120744
DTSTART;VALUE=DATE:20241205
DTEND;VALUE=DATE:20241206
SEQUENCE:0
TRANSP:OPAQUE
END:VEVENT
END:VCALENDAR