BEGIN:VCALENDAR
VERSION:2.0
PRODID:-//jEvents 2.0 for Joomla//EN
CALSCALE:GREGORIAN
METHOD:PUBLISH
BEGIN:VEVENT
UID:d0316ad42c5093bf1892ef0502524299
CATEGORIES:pielęgniarstwo, położnictwo
CREATED:20240909T111112
SUMMARY:Kalendarz szkoleń, konferencji, kursów - Nowości w Ginekologii i Położnictwie - Webinarium dla Położnych 2024 cz.2
LOCATION:ONLINE
URL;VALUE=URI:https://www.konferencjemedyczne.info/pl/o/390/nowosci-w-ginekologii-i-poloz
 nictwie-webinarium-dla-poloznych-2024-cz-2.html?tmpl=component
DESCRIPTION:<p>Koleżanki i Koledzy!</p><p>Z wielką przyjemnością pragniemy poinformować
 , że w dniu 14 września br. o godzinie 09.30 rozpocznie się druga część teg
 orocznego cyklu webinarium „Aktualności ginekologiczno-położnicze 2024” ded
 ykowanego Położnym.</p><p>Podjęliśmy się kontynuacji tego projektu edukacyj
 nego z dużym zapałem wynikającym z ogromnego szacunku jakim darzymy PT Prze
 dstawicielki i Przedstawicieli tej grupy zawodowej a także z naszego przeko
 nania o niemożliwej do przeceniania roli jaką odgrywają w ochronie zdrowia 
 współczesnych kobiet. Wielce dla nas zaszczytne pozytywne opinie uczestnikó
 w po zeszłorocznych webinariach, dodatkowo zmobilizowały nas do kontynuacji
  tego cyklu. Uwzględniliśmy w tegorocznej edycji nowe tematy w dużej części
  zasugerowane nam przez Was po poprzednich spotkaniach.</p><p>Webinarium bę
 dzie realizowane na żywo i będzie miało charakter w pełni interaktywny z mo
 żliwością zadawania nam pytań, na które po każdej sesji odpowiemy. Gorąco z
 achęcamy do udziału w tym wydarzeniu.</p><p>Wszelkie szczegóły oraz skrypt 
 do rejestracji znajdują się na stronie www.polozna.alltus.pl</p><p>Ciesząc 
 się na kolejne spotkanie z Państwem,<br />przesyłamy wyrazy szacunku i symp
 atii.</p><p>Prof. dr hab. n.med. Violetta Skrzypulec-Plinta<br />Prof. dr h
 ab. n.med. Tomasz Paszkowski</p> <a href="https://www.konferencjemedyczne.i
 nfo/pl/o/390/nowosci-w-ginekologii-i-poloznictwie-webinarium-dla-poloznych-
 2024-cz-2.html?tmpl=component">This event was imported from: https://www.ko
 nferencjemedyczne.info/pl/o/390/nowosci-w-ginekologii-i-poloznictwie-webina
 rium-dla-poloznych-2024-cz-2.html?tmpl=component</a>DTSTAMP:20260420T175003
DTSTART;VALUE=DATE:20240914
DTEND;VALUE=DATE:20240915
SEQUENCE:0
TRANSP:OPAQUE
END:VEVENT
END:VCALENDAR