BEGIN:VCALENDAR
VERSION:2.0
PRODID:-//jEvents 2.0 for Joomla//EN
CALSCALE:GREGORIAN
METHOD:PUBLISH
BEGIN:VEVENT
UID:0c38443ad9e4c46e90dca519db2d1a4a
CATEGORIES:medycyna
CREATED:20241211T140803
SUMMARY:Kalendarz szkoleń, konferencji, kursów - Powikłania w ortopedii. World Experts Meeting in Arthroplasty – co nowego w artroplastyce stawów?
LOCATION:Hotel Boss
URL;VALUE=URI:https://www.konferencjemedyczne.info/pl/o/444/powiklania-w-ortopedii-world-
 experts-meeting-in-arthroplasty-co-nowego-w-artroplastyce-stawow.html?tmpl=
 component
DESCRIPTION:Szanowni Państwo,\nserdecznie zapraszam do udziału w Konferencji „Powikłani
 a w ortopedii” organizowanej przez Klinikę Ortopedii CMKP Szpitala im. Prof
 . Adama Grucy w Otwocku. Nasze spotkanie zostało objęte patronatem Centrum 
 Medycznego Kształcenia Podyplomowego w Warszawie.\nKonferencja odbędzie się
  w dniach 28 i 29 marca 2025 roku w hotelu BOSS w Miedzeszynie i będzie poś
 więcona omówieniu World Experts Meeting in Arthroplasty – Istambuł 2024. Tr
 adycyjnie dużo czasu poświęcimy problematyce powikłań endoprotezoplastyki, 
 zrostu kostnego, jak również profilaktyce zatorowo-zakrzepowej w ortopedii.
 \nPrzewiduję udział gości krajowych i zagranicznych, którzy z całą pewności
 ą uświetnią nasze spotkanie.\nZapraszam do czynnego udziału w Konferencji. 
 \nJerzy Białecki z zespołem\n This event was imported from: https://www.kon
 ferencjemedyczne.info/pl/o/444/powiklania-w-ortopedii-world-experts-meeting
 -in-arthroplasty-co-nowego-w-artroplastyce-stawow.html?tmpl=component (http
 s://www.konferencjemedyczne.info/pl/o/444/powiklania-w-ortopedii-world-expe
 rts-meeting-in-arthroplasty-co-nowego-w-artroplastyce-stawow.html?tmpl=comp
 onent)
X-ALT-DESC;FMTTYPE=text/html:<p>Szanowni Państwo,</p><p>serdecznie zapraszam do udziału w Konferencji „P
 owikłania w ortopedii” organizowanej przez Klinikę Ortopedii CMKP Szpitala 
 im. Prof. Adama Grucy w Otwocku. Nasze spotkanie zostało objęte patronatem 
 Centrum Medycznego Kształcenia Podyplomowego w Warszawie.</p><p>Konferencja
  odbędzie się w dniach 28 i 29 marca 2025 roku w hotelu BOSS w Miedzeszynie
  i będzie poświęcona omówieniu World Experts Meeting in Arthroplasty – Ista
 mbuł 2024. Tradycyjnie dużo czasu poświęcimy problematyce powikłań endoprot
 ezoplastyki, zrostu kostnego, jak również profilaktyce zatorowo-zakrzepowej
  w ortopedii.</p><p>Przewiduję udział gości krajowych i zagranicznych, któr
 zy z całą pewnością uświetnią nasze spotkanie.</p><p>Zapraszam do czynnego 
 udziału w Konferencji. </p><p>Jerzy Białecki z zespołem</p> <a href="https:
 //www.konferencjemedyczne.info/pl/o/444/powiklania-w-ortopedii-world-expert
 s-meeting-in-arthroplasty-co-nowego-w-artroplastyce-stawow.html?tmpl=compon
 ent">This event was imported from: https://www.konferencjemedyczne.info/pl/
 o/444/powiklania-w-ortopedii-world-experts-meeting-in-arthroplasty-co-noweg
 o-w-artroplastyce-stawow.html?tmpl=component</a>DTSTAMP:20260421T022032
DTSTART;VALUE=DATE:20250328
DTEND;VALUE=DATE:20250330
SEQUENCE:0
TRANSP:OPAQUE
END:VEVENT
END:VCALENDAR