BEGIN:VCALENDAR
VERSION:2.0
PRODID:-//jEvents 2.0 for Joomla//EN
CALSCALE:GREGORIAN
METHOD:PUBLISH
BEGIN:VEVENT
UID:39060a309256b374b2f7df30200db36b
CATEGORIES:medycyna, diagnostyka medyczna, technologia medyczna
CREATED:20241230T122200
SUMMARY:Kalendarz szkoleń, konferencji, kursów - Konferencja Naukowo-Szkoleniowa Kujawsko-Pomorskie Dni Neurologiczne
LOCATION:Hotel Holiday Inn Bydgoszcz
URL;VALUE=URI:https://www.konferencjemedyczne.info/pl/o/446/konferencja-naukowo-szkolenio
 wa-kujawsko-pomorskie-dni-neurologiczne.html?tmpl=component
DESCRIPTION:Tematyka konferencji obejmuje rozpoznawanie i leczenie najważniejszych scho
 rzeń neurologicznych. Tradycyjnie zaplanowane są sesje obejmujące zagadnien
 ia z zakresu diagnostyki  i leczenia stwardnienia rozsianego, padaczki, cho
 rób nerwowo-mięśniowych i neurozwyrodnieniowych. Podczas najbliższego spotk
 ania chcielibyśmy ponadto zwrócić uwagę na zagadnienia, z którymi spotykamy
  się w poradni neurologicznej - bóle głowy, migrena, ból neuropatyczny, nas
 tępstwa chorób naczyniowych mózgowych. Więcej informacji na stronie interne
 towej: kpdn2025.skolamed.pl\n This event was imported from: https://www.kon
 ferencjemedyczne.info/pl/o/446/konferencja-naukowo-szkoleniowa-kujawsko-pom
 orskie-dni-neurologiczne.html?tmpl=component (https://www.konferencjemedycz
 ne.info/pl/o/446/konferencja-naukowo-szkoleniowa-kujawsko-pomorskie-dni-neu
 rologiczne.html?tmpl=component)
X-ALT-DESC;FMTTYPE=text/html:<p>Tematyka konferencji obejmuje rozpoznawanie i leczenie najważniejszych s
 chorzeń neurologicznych. Tradycyjnie zaplanowane są sesje obejmujące zagadn
 ienia z zakresu diagnostyki  i leczenia stwardnienia rozsianego, padaczki, 
 chorób nerwowo-mięśniowych i neurozwyrodnieniowych. Podczas najbliższego sp
 otkania chcielibyśmy ponadto zwrócić uwagę na zagadnienia, z którymi spotyk
 amy się w poradni neurologicznej - bóle głowy, migrena, ból neuropatyczny, 
 następstwa chorób naczyniowych mózgowych. Więcej informacji na stronie inte
 rnetowej: kpdn2025.skolamed.pl</p> <a href="https://www.konferencjemedyczne
 .info/pl/o/446/konferencja-naukowo-szkoleniowa-kujawsko-pomorskie-dni-neuro
 logiczne.html?tmpl=component">This event was imported from: https://www.kon
 ferencjemedyczne.info/pl/o/446/konferencja-naukowo-szkoleniowa-kujawsko-pom
 orskie-dni-neurologiczne.html?tmpl=component</a>DTSTAMP:20260421T090138
DTSTART;VALUE=DATE:20250221
DTEND;VALUE=DATE:20250223
SEQUENCE:0
TRANSP:OPAQUE
END:VEVENT
END:VCALENDAR