BEGIN:VCALENDAR
VERSION:2.0
PRODID:-//jEvents 2.0 for Joomla//EN
CALSCALE:GREGORIAN
METHOD:PUBLISH
BEGIN:VEVENT
UID:8867f71de17b4255adbc1c3c9477ab28
CATEGORIES:medycyna, fizjoterapia, rehabilitacja, diagnostyka medyczna, technologia medyczna
CREATED:20241230T124652
SUMMARY:Kalendarz szkoleń, konferencji, kursów - Konferencja Naukowo-Szkoleniowa IX NEUROforum
LOCATION:Hotel Mercure Lublin Centrum
URL;VALUE=URI:https://www.konferencjemedyczne.info/pl/o/448/konferencja-naukowo-szkolenio
 wa-ix-neuroforum.html?tmpl=component
DESCRIPTION:<p>Ogólnopolska konferencja naukowo-szkoleniowa poświęcona problemom terapi
 i układu nerwowego z aspektami neuroprotekcji, neuroregeneracji i neuroreha
 bilitacji. </p><p>Hasłem przewodnim wydarzenia będzie: "Ścieżki diagnostycz
 no-terapeutyczne pacjenta w neurologii – pytania i odpowiedzi".</p><p>Chcie
 libyśmy, aby nadchodzące spotkanie miało bogatszą i nieco odmienną formułę 
 niż nasze ostatnie konferencje, w której oprócz standardowych wykładów poja
 wią się również wykłady interaktywne, prezentacje przypadków pacjentów oraz
  historia ich diagnostyki i leczenia, jak również sesje warsztatowe.</p><p>
 Szczegółowe informacje na stronie internetowej: neuroforum2025.skolamed.pl 
 </p> <a href="https://www.konferencjemedyczne.info/pl/o/448/konferencja-nau
 kowo-szkoleniowa-ix-neuroforum.html?tmpl=component">This event was imported
  from: https://www.konferencjemedyczne.info/pl/o/448/konferencja-naukowo-sz
 koleniowa-ix-neuroforum.html?tmpl=component</a>DTSTAMP:20260421T091728
DTSTART;VALUE=DATE:20250307
DTEND;VALUE=DATE:20250309
SEQUENCE:0
TRANSP:OPAQUE
END:VEVENT
END:VCALENDAR