BEGIN:VCALENDAR
VERSION:2.0
PRODID:-//jEvents 2.0 for Joomla//EN
CALSCALE:GREGORIAN
METHOD:PUBLISH
BEGIN:VEVENT
UID:ba7ce977e521781f4fd4d8a7356c5ba0
CATEGORIES:medycyna, diagnostyka medyczna, technologia medyczna
CREATED:20241231T112357
SUMMARY:Kalendarz szkoleń, konferencji, kursów - Konferencja Naukowo-Szkoleniowa XII Ogólnopolskie Dni Neurologii Dziecięcej
LOCATION:Mercure Gdynia Centrum
URL;VALUE=URI:https://www.konferencjemedyczne.info/pl/o/454/konferencja-naukowo-szkolenio
 wa-xii-ogolnopolskie-dni-neurologii-dzieciecej.html?tmpl=component
DESCRIPTION:Konferencja organizowana przez Polskie Towarzystwo Neurologii Dziecięcej. O
 dbywa się pomiędzy zjazdami. Program naukowy konferencji będzie obejmował, 
 oprócz najnowszych doniesień dotyczących diagnostyki i leczenia stwardnieni
 a rozsianego, padaczki, chorób naczyniowych mózgu, chorób nerwowo-mięśniowy
 ch oraz bólu u dzieci i młodzieży, także problematykę roli terapii genowych
 , szybkości diagnostyki i wreszcie szans na przełom w leczeniu dotychczas u
 znanych za nieuleczalne chorób układu nerwowego. \nSzczegółowe informacje n
 a stronie internetowej: ptnd2025.skolamed.pl\n This event was imported from
 : https://www.konferencjemedyczne.info/pl/o/454/konferencja-naukowo-szkolen
 iowa-xii-ogolnopolskie-dni-neurologii-dzieciecej.html?tmpl=component (https
 ://www.konferencjemedyczne.info/pl/o/454/konferencja-naukowo-szkoleniowa-xi
 i-ogolnopolskie-dni-neurologii-dzieciecej.html?tmpl=component)
X-ALT-DESC;FMTTYPE=text/html:<p>Konferencja organizowana przez Polskie Towarzystwo Neurologii Dziecięcej
 . Odbywa się pomiędzy zjazdami. Program naukowy konferencji będzie obejmowa
 ł, oprócz najnowszych doniesień dotyczących diagnostyki i leczenia stwardni
 enia rozsianego, padaczki, chorób naczyniowych mózgu, chorób nerwowo-mięśni
 owych oraz bólu u dzieci i młodzieży, także problematykę roli terapii genow
 ych, szybkości diagnostyki i wreszcie szans na przełom w leczeniu dotychcza
 s uznanych za nieuleczalne chorób układu nerwowego. </p><p>Szczegółowe info
 rmacje na stronie internetowej: ptnd2025.skolamed.pl</p> <a href="https://w
 ww.konferencjemedyczne.info/pl/o/454/konferencja-naukowo-szkoleniowa-xii-og
 olnopolskie-dni-neurologii-dzieciecej.html?tmpl=component">This event was i
 mported from: https://www.konferencjemedyczne.info/pl/o/454/konferencja-nau
 kowo-szkoleniowa-xii-ogolnopolskie-dni-neurologii-dzieciecej.html?tmpl=comp
 onent</a>DTSTAMP:20260421T091620
DTSTART;VALUE=DATE:20250606
DTEND;VALUE=DATE:20250608
SEQUENCE:0
TRANSP:OPAQUE
END:VEVENT
END:VCALENDAR