BEGIN:VCALENDAR
VERSION:2.0
PRODID:-//jEvents 2.0 for Joomla//EN
CALSCALE:GREGORIAN
METHOD:PUBLISH
BEGIN:VEVENT
UID:fd86bd0d1ca29449c20e5f77899f79d3
CATEGORIES:medycyna
CREATED:20250113T114951
SUMMARY:Kalendarz szkoleń, konferencji, kursów - Konferencja Naukowo-Szkoleniowa XVII Świętokrzyskie Spotkania Neurologiczne
LOCATION:Hotel Uroczysko
URL;VALUE=URI:https://www.konferencjemedyczne.info/pl/o/469/konferencja-naukowo-szkolenio
 wa-xvii-swietokrzyskie-spotkania-neurologiczne.html?tmpl=component
DESCRIPTION:<p>Program naukowy konferencji będzie obejmował najnowsze doniesienia dotyc
 zące diagnostyki i leczenia chorób neurologicznych, m. in. stwardnienia roz
 sianego, padaczki, chorób naczyniowych mózgu, chorób neurozwyrodnieniowych 
 oraz bólu. Szczegółowe informacje na stronie internetowej: ssn2025.skolamed
 .pl </p> <a href="https://www.konferencjemedyczne.info/pl/o/469/konferencja
 -naukowo-szkoleniowa-xvii-swietokrzyskie-spotkania-neurologiczne.html?tmpl=
 component">This event was imported from: https://www.konferencjemedyczne.in
 fo/pl/o/469/konferencja-naukowo-szkoleniowa-xvii-swietokrzyskie-spotkania-n
 eurologiczne.html?tmpl=component</a>DTSTAMP:20260421T090322
DTSTART;VALUE=DATE:20250905
DTEND;VALUE=DATE:20250907
SEQUENCE:0
TRANSP:OPAQUE
END:VEVENT
END:VCALENDAR