BEGIN:VCALENDAR
VERSION:2.0
PRODID:-//jEvents 2.0 for Joomla//EN
CALSCALE:GREGORIAN
METHOD:PUBLISH
BEGIN:VEVENT
UID:7462f723f18090f826b06be1244475c1
CATEGORIES:medycyna
CREATED:20250405T093419
SUMMARY:Kalendarz szkoleń, konferencji, kursów - II Konferencja polskiech i europejskich sieci referencyjnych 'Choroby rzadkie. Problemy nie tylko systemowe'
LOCATION:Novotel Warszawa Centrum
URL;VALUE=URI:https://www.konferencjemedyczne.info/pl/o/499/ii-konferencja-polskiech-i-eu
 ropejskich-sieci-referencyjnych-choroby-rzadkie-problemy-nie-tylko-systemow
 e.html?tmpl=component
DESCRIPTION: <a href="https://www.konferencjemedyczne.info/pl/o/499/ii-konferencja-pols
 kiech-i-europejskich-sieci-referencyjnych-choroby-rzadkie-problemy-nie-tylk
 o-systemowe.html?tmpl=component">This event was imported from: https://www.
 konferencjemedyczne.info/pl/o/499/ii-konferencja-polskiech-i-europejskich-s
 ieci-referencyjnych-choroby-rzadkie-problemy-nie-tylko-systemowe.html?tmpl=
 component</a>DTSTAMP:20260421T134502
DTSTART;VALUE=DATE:20250509
DTEND;VALUE=DATE:20250510
SEQUENCE:0
TRANSP:OPAQUE
END:VEVENT
END:VCALENDAR