BEGIN:VCALENDAR
VERSION:2.0
PRODID:-//jEvents 2.0 for Joomla//EN
CALSCALE:GREGORIAN
METHOD:PUBLISH
BEGIN:VEVENT
UID:bba3df5f05c2c000d989a5c6a2a4756e
CATEGORIES:medycyna
CREATED:20250405T102508
SUMMARY:Kalendarz szkoleń, konferencji, kursów - IV Dialogi pediatryczne
LOCATION:Radisson Hotel &amp; Suites Gdańsk
URL;VALUE=URI:https://www.konferencjemedyczne.info/pl/o/509/iv-dialogi-pediatryczne.html?
 tmpl=component
DESCRIPTION: <a href="https://www.konferencjemedyczne.info/pl/o/509/iv-dialogi-pediatry
 czne.html?tmpl=component">This event was imported from: https://www.konfere
 ncjemedyczne.info/pl/o/509/iv-dialogi-pediatryczne.html?tmpl=component</a>DTSTAMP:20260421T170742
DTSTART;VALUE=DATE:20250606
DTEND;VALUE=DATE:20250608
SEQUENCE:0
TRANSP:OPAQUE
END:VEVENT
END:VCALENDAR