BEGIN:VCALENDAR
VERSION:2.0
PRODID:-//jEvents 2.0 for Joomla//EN
CALSCALE:GREGORIAN
METHOD:PUBLISH
BEGIN:VEVENT
UID:dc4f06035a0bf13170305868de46e90d
CATEGORIES:medycyna
CREATED:20250405T180124
SUMMARY:Kalendarz szkoleń, konferencji, kursów - Kongres starzenia. Pacjent 65+ w codziennej praktyce lekarskiej.
LOCATION:Radisson Hotel &amp; Suites Gdańsk
URL;VALUE=URI:https://www.konferencjemedyczne.info/pl/o/511/kongres-starzenia-pacjent-65-
 w-codziennej-praktyce-lekarskiej.html?tmpl=component
DESCRIPTION: <a href="https://www.konferencjemedyczne.info/pl/o/511/kongres-starzenia-p
 acjent-65-w-codziennej-praktyce-lekarskiej.html?tmpl=component">This event 
 was imported from: https://www.konferencjemedyczne.info/pl/o/511/kongres-st
 arzenia-pacjent-65-w-codziennej-praktyce-lekarskiej.html?tmpl=component</a>DTSTAMP:20260421T173057
DTSTART;VALUE=DATE:20250612
DTEND;VALUE=DATE:20250615
SEQUENCE:0
TRANSP:OPAQUE
END:VEVENT
END:VCALENDAR