BEGIN:VCALENDAR
VERSION:2.0
PRODID:-//jEvents 2.0 for Joomla//EN
CALSCALE:GREGORIAN
METHOD:PUBLISH
BEGIN:VEVENT
UID:021108fec28fa68be9a23e85064a1a82
CATEGORIES:medycyna
CREATED:20250406T110245
SUMMARY:Kalendarz szkoleń, konferencji, kursów - Warszawskie Dni Neurologiczne
LOCATION:Hotel Courtyard by Marriott Warsaw Airport
URL;VALUE=URI:https://www.konferencjemedyczne.info/pl/o/529/warszawskie-dni-neurologiczne
 .html?tmpl=component
DESCRIPTION: <a href="https://www.konferencjemedyczne.info/pl/o/529/warszawskie-dni-neu
 rologiczne.html?tmpl=component">This event was imported from: https://www.k
 onferencjemedyczne.info/pl/o/529/warszawskie-dni-neurologiczne.html?tmpl=co
 mponent</a>DTSTAMP:20260421T152436
DTSTART;VALUE=DATE:20251024
DTEND;VALUE=DATE:20251026
SEQUENCE:0
TRANSP:OPAQUE
END:VEVENT
END:VCALENDAR