BEGIN:VCALENDAR
VERSION:2.0
PRODID:-//jEvents 2.0 for Joomla//EN
CALSCALE:GREGORIAN
METHOD:PUBLISH
BEGIN:VEVENT
UID:ad8f0bef445809adaa8dfffa3fb5b087
CATEGORIES:medycyna
CREATED:20250407T150357
SUMMARY:Kalendarz szkoleń, konferencji, kursów - KONFERENCJA IV SYMPURON — SYMPATYCZNE, MERYTORYCZNE, WIELODYSCYPLINARNE SYMPOZJUM UROONKOLOGICZNE 2025 
LOCATION:Mercure Gdynia Centrum
URL;VALUE=URI:https://www.konferencjemedyczne.info/pl/o/537/konferencja-iv-sympuron-sympa
 tyczne-merytoryczne-wielodyscyplinarne-sympozjum-uroonkologiczne-2025.html?
 tmpl=component
DESCRIPTION: This event was imported from: https://www.konferencjemedyczne.info/pl/o/53
 7/konferencja-iv-sympuron-sympatyczne-merytoryczne-wielodyscyplinarne-sympo
 zjum-uroonkologiczne-2025.html?tmpl=component (https://www.konferencjemedyc
 zne.info/pl/o/537/konferencja-iv-sympuron-sympatyczne-merytoryczne-wielodys
 cyplinarne-sympozjum-uroonkologiczne-2025.html?tmpl=component)
X-ALT-DESC;FMTTYPE=text/html: <a href="https://www.konferencjemedyczne.info/pl/o/537/konferencja-iv-symp
 uron-sympatyczne-merytoryczne-wielodyscyplinarne-sympozjum-uroonkologiczne-
 2025.html?tmpl=component">This event was imported from: https://www.konfere
 ncjemedyczne.info/pl/o/537/konferencja-iv-sympuron-sympatyczne-merytoryczne
 -wielodyscyplinarne-sympozjum-uroonkologiczne-2025.html?tmpl=component</a>DTSTAMP:20260421T120751
DTSTART;VALUE=DATE:20250516
DTEND;VALUE=DATE:20250518
SEQUENCE:0
TRANSP:OPAQUE
END:VEVENT
END:VCALENDAR