BEGIN:VCALENDAR
VERSION:2.0
PRODID:-//jEvents 2.0 for Joomla//EN
CALSCALE:GREGORIAN
METHOD:PUBLISH
BEGIN:VEVENT
UID:fd31a492cda01293d826111a1274c1b6
CATEGORIES:medycyna
CREATED:20250407T153014
SUMMARY:Kalendarz szkoleń, konferencji, kursów - Onkologia precyzyjna w praktyce klinicznej
LOCATION:Hotel Courtyard by Marriott Warsaw Airport
URL;VALUE=URI:https://www.konferencjemedyczne.info/pl/o/546/onkologia-precyzyjna-w-prakty
 ce-klinicznej.html?tmpl=component
DESCRIPTION: This event was imported from: https://www.konferencjemedyczne.info/pl/o/54
 6/onkologia-precyzyjna-w-praktyce-klinicznej.html?tmpl=component (https://w
 ww.konferencjemedyczne.info/pl/o/546/onkologia-precyzyjna-w-praktyce-klinic
 znej.html?tmpl=component)
X-ALT-DESC;FMTTYPE=text/html: <a href="https://www.konferencjemedyczne.info/pl/o/546/onkologia-precyzyjn
 a-w-praktyce-klinicznej.html?tmpl=component">This event was imported from: 
 https://www.konferencjemedyczne.info/pl/o/546/onkologia-precyzyjna-w-prakty
 ce-klinicznej.html?tmpl=component</a>DTSTAMP:20260421T152245
DTSTART;VALUE=DATE:20250626
DTEND;VALUE=DATE:20250627
SEQUENCE:0
TRANSP:OPAQUE
END:VEVENT
END:VCALENDAR