BEGIN:VCALENDAR
VERSION:2.0
PRODID:-//jEvents 2.0 for Joomla//EN
CALSCALE:GREGORIAN
METHOD:PUBLISH
BEGIN:VEVENT
UID:cf5f8fb97f2f70aee07b877f1df28f65
CATEGORIES:medycyna
CREATED:20250408T152127
SUMMARY:Kalendarz szkoleń, konferencji, kursów - GU Masterclass 2025
LOCATION:Hotel Courtyard by Marriott Warsaw Airport
URL;VALUE=URI:https://www.konferencjemedyczne.info/pl/o/554/gu-masterclass-2025.html?tmpl
 =component
DESCRIPTION: This event was imported from: https://www.konferencjemedyczne.info/pl/o/55
 4/gu-masterclass-2025.html?tmpl=component (https://www.konferencjemedyczne.
 info/pl/o/554/gu-masterclass-2025.html?tmpl=component)
X-ALT-DESC;FMTTYPE=text/html: <a href="https://www.konferencjemedyczne.info/pl/o/554/gu-masterclass-2025
 .html?tmpl=component">This event was imported from: https://www.konferencje
 medyczne.info/pl/o/554/gu-masterclass-2025.html?tmpl=component</a>DTSTAMP:20260421T120802
DTSTART;VALUE=DATE:20251114
DTEND;VALUE=DATE:20251116
SEQUENCE:0
TRANSP:OPAQUE
END:VEVENT
END:VCALENDAR