BEGIN:VCALENDAR
VERSION:2.0
PRODID:-//jEvents 2.0 for Joomla//EN
CALSCALE:GREGORIAN
METHOD:PUBLISH
BEGIN:VEVENT
UID:5e7cc2ace98fcbcadfda696cb4fa56bf
CATEGORIES:medycyna
CREATED:20251023T093955
SUMMARY:Kalendarz szkoleń, konferencji, kursów - Akademia szpiczaka plazmocytowego. Część 3. Nowe terapie i leczenie wspomagające
LOCATION:ONLINE
URL;VALUE=URI:https://www.konferencjemedyczne.info/pl/o/648/akademia-szpiczaka-plazmocyto
 wego-czesc-3-nowe-terapie-i-leczenie-wspomagajace.html?tmpl=component
DESCRIPTION:Zapraszamy do udziału w webinarze pt: "Akademia szpiczaka plazmocytowego. C
 zęść 3. Nowe terapie i leczenie wspomagające", który odbędzie się 13 listop
 ada 2025 r. o godz. 18.00.\nPodczas spotkania zaproszeni goście omówią miej
 sce immunotoksyn w SzP. Eksperci przedstawią również najważniejsze wyzwania
  związane z prowadzeniem chorego leczonego belantamabem mafodotyny oraz pro
 filaktyką i leczeniem choroby kostnej u chorych na szpiczaka plazmocytowego
 .\nWydarzenie zakończy się panelem dyskusyjnym, który pozwoli na wymianę do
 świadczeń oraz przedstawienie różnych perspektyw dotyczących nowych terapii
  i leczenia wspomagającego.\nSzczegółowe informacje oraz możliwość bezpłatn
 ej rejestracji znajdują się na stronie wydarzenia:\nhttps://hematoonkologia
 .pl/webinary/180-akademia-szpiczaka-plazmocytowego-czesc-3-nowe-terapie-i-l
 eczenie-wspomagajace\nZapraszamy do udziału!\n This event was imported from
 : https://www.konferencjemedyczne.info/pl/o/648/akademia-szpiczaka-plazmocy
 towego-czesc-3-nowe-terapie-i-leczenie-wspomagajace.html?tmpl=component (ht
 tps://www.konferencjemedyczne.info/pl/o/648/akademia-szpiczaka-plazmocytowe
 go-czesc-3-nowe-terapie-i-leczenie-wspomagajace.html?tmpl=component)
X-ALT-DESC;FMTTYPE=text/html:<p>Zapraszamy do udziału w webinarze pt: "Akademia szpiczaka plazmocytowego
 . Część 3. Nowe terapie i leczenie wspomagające", który odbędzie się 13 lis
 topada 2025 r. o godz. 18.00.</p><p>Podczas spotkania zaproszeni goście omó
 wią miejsce immunotoksyn w SzP. Eksperci przedstawią również najważniejsze 
 wyzwania związane z prowadzeniem chorego leczonego belantamabem mafodotyny 
 oraz profilaktyką i leczeniem choroby kostnej u chorych na szpiczaka plazmo
 cytowego.</p><p>Wydarzenie zakończy się panelem dyskusyjnym, który pozwoli 
 na wymianę doświadczeń oraz przedstawienie różnych perspektyw dotyczących n
 owych terapii i leczenia wspomagającego.</p><p>Szczegółowe informacje oraz 
 możliwość bezpłatnej rejestracji znajdują się na stronie wydarzenia:</p><p>
 https://hematoonkologia.pl/webinary/180-akademia-szpiczaka-plazmocytowego-c
 zesc-3-nowe-terapie-i-leczenie-wspomagajace</p><p>Zapraszamy do udziału!</p
 > <a href="https://www.konferencjemedyczne.info/pl/o/648/akademia-szpiczaka
 -plazmocytowego-czesc-3-nowe-terapie-i-leczenie-wspomagajace.html?tmpl=comp
 onent">This event was imported from: https://www.konferencjemedyczne.info/p
 l/o/648/akademia-szpiczaka-plazmocytowego-czesc-3-nowe-terapie-i-leczenie-w
 spomagajace.html?tmpl=component</a>DTSTAMP:20260422T170755
DTSTART;VALUE=DATE:20251113
DTEND;VALUE=DATE:20251114
SEQUENCE:0
TRANSP:OPAQUE
END:VEVENT
END:VCALENDAR