BEGIN:VCALENDAR
VERSION:2.0
PRODID:-//jEvents 2.0 for Joomla//EN
CALSCALE:GREGORIAN
METHOD:PUBLISH
BEGIN:VEVENT
UID:29613b032910e7dd425609302817b2c8
CATEGORIES:medycyna, diagnostyka medyczna, technologia medyczna
CREATED:20251212T125316
SUMMARY:Kalendarz szkoleń, konferencji, kursów - Konferencja Naukowo-Szkoleniowa Bieszczadzkie Dni Neurologiczne
LOCATION:Hilton Garden Inn Rzeszów
URL;VALUE=URI:https://www.konferencjemedyczne.info/pl/o/683/konferencja-naukowo-szkolenio
 wa-bieszczadzkie-dni-neurologiczne.html?tmpl=component
DESCRIPTION:Tematyka Bieszczadzkich Dni Neurologicznych tradycyjnie obejmuje rozpoznawa
 nie i leczenie najważniejszych schorzeń neurologicznych. Formuła konferencj
 i od lat pozostaje niezmienna i cieszy się zainteresowaniem uczestników. Sz
 czegółowe informacje dostępne na stronie bdn2026.skolamed.pl \n This event 
 was imported from: https://www.konferencjemedyczne.info/pl/o/683/konferencj
 a-naukowo-szkoleniowa-bieszczadzkie-dni-neurologiczne.html?tmpl=component (
 https://www.konferencjemedyczne.info/pl/o/683/konferencja-naukowo-szkolenio
 wa-bieszczadzkie-dni-neurologiczne.html?tmpl=component)
X-ALT-DESC;FMTTYPE=text/html:<p>Tematyka Bieszczadzkich Dni Neurologicznych tradycyjnie obejmuje rozpozn
 awanie i leczenie najważniejszych schorzeń neurologicznych. Formuła konfere
 ncji od lat pozostaje niezmienna i cieszy się zainteresowaniem uczestników.
  Szczegółowe informacje dostępne na stronie bdn2026.skolamed.pl </p> <a hre
 f="https://www.konferencjemedyczne.info/pl/o/683/konferencja-naukowo-szkole
 niowa-bieszczadzkie-dni-neurologiczne.html?tmpl=component">This event was i
 mported from: https://www.konferencjemedyczne.info/pl/o/683/konferencja-nau
 kowo-szkoleniowa-bieszczadzkie-dni-neurologiczne.html?tmpl=component</a>DTSTAMP:20260420T235548
DTSTART;VALUE=DATE:20261106
DTEND;VALUE=DATE:20261108
SEQUENCE:0
TRANSP:OPAQUE
END:VEVENT
END:VCALENDAR