BEGIN:VCALENDAR
VERSION:2.0
PRODID:-//jEvents 2.0 for Joomla//EN
CALSCALE:GREGORIAN
METHOD:PUBLISH
BEGIN:VEVENT
UID:ceff074a47c099028b72e932bf101ebe
CATEGORIES:medycyna
CREATED:20260309T230559
SUMMARY:Kalendarz szkoleń, konferencji, kursów - XXV Bieszczadzka Konferencja Naukowa | Innowacje w leczeniu stawu biodrowego i kręgosłupa
LOCATION:Bristol Rzeszów Tradition &amp; Luxury
URL;VALUE=URI:https://www.konferencjemedyczne.info/pl/o/719/xxv-bieszczadzka-konferencja-
 naukowa-innowacje-w-leczeniu-stawu-biodrowego-i-kregoslupa.html?tmpl=compon
 ent
DESCRIPTION: This event was imported from: https://www.konferencjemedyczne.info/pl/o/71
 9/xxv-bieszczadzka-konferencja-naukowa-innowacje-w-leczeniu-stawu-biodroweg
 o-i-kregoslupa.html?tmpl=component
X-ALT-DESC;FMTTYPE=text/html: <a href="https://www.konferencjemedyczne.info/pl/o/719/xxv-bieszczadzka-ko
 nferencja-naukowa-innowacje-w-leczeniu-stawu-biodrowego-i-kregoslupa.html?t
 mpl=component">This event was imported from: https://www.konferencjemedyczn
 e.info/pl/o/719/xxv-bieszczadzka-konferencja-naukowa-innowacje-w-leczeniu-s
 tawu-biodrowego-i-kregoslupa.html?tmpl=component</a>DTSTAMP:20260421T073913
DTSTART;VALUE=DATE:20260514
DTEND;VALUE=DATE:20260516
SEQUENCE:0
TRANSP:OPAQUE
END:VEVENT
END:VCALENDAR